BEGIN:VCALENDAR
VERSION:2.0
PRODID:-//Events | FID-Recht//NONSGML Events//EN
CALSCALE:GREGORIAN
X-ORIGINAL-URL:https://events.intrecht.de/termine/
X-WR-CALDESC:Events | FID-Recht - Events
BEGIN:VEVENT
UID:20200602T0945Z-1591091115.9737-EO-599-1@172.16.200.141
STATUS:CONFIRMED
DTSTAMP:20260423T021029Z
CREATED:20251120T133744Z
LAST-MODIFIED:20251120T133744Z
DTSTART;VALUE=DATE:20251204
DTEND;VALUE=DATE:20251205
SUMMARY: The Death of Sovereignty: Palestine and the Economies of Erasure (
 Virtual Lecture)
DESCRIPTION: 4.12.2025 / Online https://events.mpipriv.de/b?p=private_law_i
 n_context_across_asia_and_north_africa_with_zeina_jallad
X-ALT-DESC;FMTTYPE=text/html: <p>4.12.2025 / Online</p><p><a href="https://
 events.mpipriv.de/b?p=private_law_in_context_across_asia_and_north_africa_w
 ith_zeina_jallad">https://events.mpipriv.de/b?p=private_law_in_context_acro
 ss_asia_and_north_africa_with_zeina_jallad</a></p><p>[av_button label='iCal
 -Export' link='./feed/eo-events' link_target='' size='small' position='cent
 er' label_display='' title_attr='' icon_select='yes' icon='ue85b' font='ent
 ypo-fontello' color='custom' custom_bg='#b5123e' custom_font='#ffffff' av_u
 id='' id='' custom_class='' admin_preview_bg='']</p>
CATEGORIES:Zivilrecht
LOCATION:Online
GEO:0.000000;0.000000
ORGANIZER;CN="ViFa-Recht":MAILTO:vifa-recht@sbb.spk-berlin.de
URL;VALUE=URI:https://events.intrecht.de/termine/termin/the-death-of-sovere
 ignty-palestine-and-the-economies-of-erasure-virtual-lecture/
END:VEVENT
BEGIN:VTIMEZONE
TZID:Europe/Berlin
BEGIN:STANDARD
TZOFFSETFROM:+0200
TZOFFSETTO:+0100
DTSTART:20251026T010000
TZNAME:CET
END:STANDARD
END:VTIMEZONE
END:VCALENDAR
