BEGIN:VCALENDAR
VERSION:2.0
PRODID:-//Events | FID-Recht//NONSGML Events//EN
CALSCALE:GREGORIAN
X-ORIGINAL-URL:https://events.intrecht.de/termine/
X-WR-CALDESC:Events | FID-Recht - Events
BEGIN:VEVENT
UID:20200603T1418Z-1591193923.3362-EO-587-1@172.16.200.141
STATUS:CONFIRMED
DTSTAMP:20260422T192454Z
CREATED:20241104T134003Z
LAST-MODIFIED:20241104T134003Z
DTSTART;VALUE=DATE:20241119
DTEND;VALUE=DATE:20241120
SUMMARY: The CS3D: A Law and Economics Evaluation (Online Event)
DESCRIPTION: 19.11.2024 / Online https://law.mpg.de/event/the-cs3d-a-law-an
 d-economics-evaluation/
X-ALT-DESC;FMTTYPE=text/html: <p>19.11.2024 / Online</p><p><a href="https:/
 /law.mpg.de/event/the-cs3d-a-law-and-economics-evaluation/">https://law.mpg
 .de/event/the-cs3d-a-law-and-economics-evaluation/</a></p><p>[av_button lab
 el='iCal-Export' link='./feed/eo-events' link_target='' size='small' positi
 on='center' label_display='' title_attr='' icon_select='yes' icon='ue85b' f
 ont='entypo-fontello' color='custom' custom_bg='#b5123e' custom_font='#ffff
 ff' av_uid='' id='' custom_class='' admin_preview_bg='']</p>
CATEGORIES:Europäisches / Internationales Recht
LOCATION:Online
GEO:0.000000;0.000000
ORGANIZER;CN="ViFa-Recht":MAILTO:vifa-recht@sbb.spk-berlin.de
URL;VALUE=URI:https://events.intrecht.de/termine/termin/the-cs3d-a-law-and-
 economics-evaluation-online-event/
END:VEVENT
BEGIN:VTIMEZONE
TZID:Europe/Berlin
BEGIN:STANDARD
TZOFFSETFROM:+0200
TZOFFSETTO:+0100
DTSTART:20241027T010000
TZNAME:CET
END:STANDARD
END:VTIMEZONE
END:VCALENDAR
