BEGIN:VCALENDAR
VERSION:2.0
PRODID:-//Events | FID-Recht//NONSGML Events//EN
CALSCALE:GREGORIAN
X-ORIGINAL-URL:https://events.intrecht.de/termine/
X-WR-CALDESC:Events | FID-Recht - Events
BEGIN:VEVENT
UID:20220320T0104Z-1647738240.7166-EO-6125-1@172.16.200.141
STATUS:CONFIRMED
DTSTAMP:20260425T213936Z
CREATED:20220223T091235Z
LAST-MODIFIED:20220223T091235Z
DTSTART;VALUE=DATE:20220215
DTEND;VALUE=DATE:20220215
SUMMARY: The concept of obligation in international law (Tagung) (CfP)
DESCRIPTION: 23.-24.5.2022\, Mailand (Frist für Einreichungen: 15.2.2022) E
 SIL-supported event | “The concept of obligation in international law” – Eu
 ropean Society of International Law | Société européenne de droit internati
 onal (esil-sedi.eu)  
X-ALT-DESC;FMTTYPE=text/html: <p>23.-24.5.2022\, Mailand (Frist für Einreic
 hungen: 15.2.2022)</p><p><a href="https://esil-sedi.eu/esil-supported-event
 -the-concept-of-obligation-in-international-law-call-for-papers-available/"
 >ESIL-supported event | “The concept of obligation in international law” – 
 European Society of International Law | Société européenne de droit interna
 tional (esil-sedi.eu)</a></p><p> </p><p>[av_button label='iCal-Export' link
 ='./feed/eo-events' link_target='' size='small' position='center' label_dis
 play='' title_attr='' icon_select='yes' icon='ue85b' font='entypo-fontello'
  color='custom' custom_bg='#b5123e' custom_font='#ffffff' av_uid='' id='' c
 ustom_class='' admin_preview_bg='']</p>
CATEGORIES:Europäisches / Internationales Recht
LOCATION:Ausland
GEO:0.000000;0.000000
ORGANIZER;CN="ViFa-Recht":MAILTO:vifa-recht@sbb.spk-berlin.de
URL;VALUE=URI:https://events.intrecht.de/termine/termin/the-concept-of-obli
 gation-in-international-law-tagung-cfp/
END:VEVENT
BEGIN:VTIMEZONE
TZID:Europe/Berlin
BEGIN:STANDARD
TZOFFSETFROM:+0200
TZOFFSETTO:+0100
DTSTART:20211031T010000
TZNAME:CET
END:STANDARD
END:VTIMEZONE
END:VCALENDAR
