BEGIN:VCALENDAR
VERSION:2.0
PRODID:-//Events | FID-Recht//NONSGML Events//EN
CALSCALE:GREGORIAN
X-ORIGINAL-URL:https://events.intrecht.de/termine/
X-WR-CALDESC:Events | FID-Recht - Events
BEGIN:VEVENT
UID:20200603T1418Z-1591193923.3362-EO-587-1@172.16.200.141
STATUS:CONFIRMED
DTSTAMP:20260423T052757Z
CREATED:20250902T115754Z
LAST-MODIFIED:20250902T115754Z
DTSTART;VALUE=DATE:20251103
DTEND;VALUE=DATE:20251104
SUMMARY: The Computer in the Law Firm: The Early Automation of Legal Resear
 ch in the United States\, 1964-1974 (Virtual Lecture)
DESCRIPTION: 3.11.2025 / Online https://events.mpipriv.de/b?p=speaker_serie
 s_with_alex_reiss_sorokin
X-ALT-DESC;FMTTYPE=text/html: <p>3.11.2025 / Online</p><p><a href="https://
 events.mpipriv.de/b?p=speaker_series_with_alex_reiss_sorokin">https://event
 s.mpipriv.de/b?p=speaker_series_with_alex_reiss_sorokin</a></p><p>[av_butto
 n label='iCal-Export' link='./feed/eo-events' link_target='' size='small' p
 osition='center' label_display='' title_attr='' icon_select='yes' icon='ue8
 5b' font='entypo-fontello' color='custom' custom_bg='#b5123e' custom_font='
 #ffffff' av_uid='' id='' custom_class='' admin_preview_bg='']</p>
CATEGORIES:Recht interdisziplinär
LOCATION:Online
GEO:0.000000;0.000000
ORGANIZER;CN="ViFa-Recht":MAILTO:vifa-recht@sbb.spk-berlin.de
URL;VALUE=URI:https://events.intrecht.de/termine/termin/the-computer-in-the
 -law-firm-the-early-automation-of-legal-research-in-the-united-states-1964-
 1974-virtual-lecture/
END:VEVENT
BEGIN:VTIMEZONE
TZID:Europe/Berlin
BEGIN:STANDARD
TZOFFSETFROM:+0200
TZOFFSETTO:+0100
DTSTART:20251026T010000
TZNAME:CET
END:STANDARD
END:VTIMEZONE
END:VCALENDAR
