BEGIN:VCALENDAR
VERSION:2.0
PRODID:-//Events | FID-Recht//NONSGML Events//EN
CALSCALE:GREGORIAN
X-ORIGINAL-URL:https://events.intrecht.de/termine/
X-WR-CALDESC:Events | FID-Recht - Events
BEGIN:VEVENT
UID:20200603T1418Z-1591193923.3362-EO-587-1@172.16.200.141
STATUS:CONFIRMED
DTSTAMP:20260422T211637Z
CREATED:20241111T091845Z
LAST-MODIFIED:20241111T091845Z
DTSTART;VALUE=DATE:20241205
DTEND;VALUE=DATE:20241206
SUMMARY: The Coming of Age of Environmental and Climate Due Diligence along
  Value Chains (Online Event)
DESCRIPTION: 5.12.2024 / Online https://law.mpg.de/event/the-coming-of-age-
 of-environmental-and-climate-due-diligence-along-value-chains/
X-ALT-DESC;FMTTYPE=text/html: <p>5.12.2024 / Online</p><p><a href="https://
 law.mpg.de/event/the-coming-of-age-of-environmental-and-climate-due-diligen
 ce-along-value-chains/">https://law.mpg.de/event/the-coming-of-age-of-envir
 onmental-and-climate-due-diligence-along-value-chains/</a></p><p>[av_button
  label='iCal-Export' link='./feed/eo-events' link_target='' size='small' po
 sition='center' label_display='' title_attr='' icon_select='yes' icon='ue85
 b' font='entypo-fontello' color='custom' custom_bg='#b5123e' custom_font='#
 ffffff' av_uid='' id='' custom_class='' admin_preview_bg='']</p>
CATEGORIES:Europäisches / Internationales Recht
LOCATION:Online
GEO:0.000000;0.000000
ORGANIZER;CN="ViFa-Recht":MAILTO:vifa-recht@sbb.spk-berlin.de
URL;VALUE=URI:https://events.intrecht.de/termine/termin/the-coming-of-age-o
 f-environmental-and-climate-due-diligence-along-value-chains-online-event/
END:VEVENT
BEGIN:VTIMEZONE
TZID:Europe/Berlin
BEGIN:STANDARD
TZOFFSETFROM:+0200
TZOFFSETTO:+0100
DTSTART:20241027T010000
TZNAME:CET
END:STANDARD
END:VTIMEZONE
END:VCALENDAR
