BEGIN:VCALENDAR
VERSION:2.0
PRODID:-//Events | FID-Recht//NONSGML Events//EN
CALSCALE:GREGORIAN
X-ORIGINAL-URL:https://events.intrecht.de/termine/
X-WR-CALDESC:Events | FID-Recht - Events
BEGIN:VEVENT
UID:20200603T1418Z-1591193923.3362-EO-587-1@172.16.200.141
STATUS:CONFIRMED
DTSTAMP:20260422T052411Z
CREATED:20240111T131706Z
LAST-MODIFIED:20240111T131706Z
DTSTART;VALUE=DATE:20240115
DTEND;VALUE=DATE:20240116
SUMMARY: The Collaborative Constitution (Book Launch Symposium)
DESCRIPTION: 15.1.2024 / Online und Oxford https://www.law.ox.ac.uk/content
 /event/book-launch-symposium-collaborative-constitution-aileen-kavanagh
X-ALT-DESC;FMTTYPE=text/html: <p>15.1.2024 / Online und Oxford</p><p><a hre
 f="https://www.law.ox.ac.uk/content/event/book-launch-symposium-collaborati
 ve-constitution-aileen-kavanagh">https://www.law.ox.ac.uk/content/event/boo
 k-launch-symposium-collaborative-constitution-aileen-kavanagh</a></p><p>[av
 _button label='iCal-Export' link='./feed/eo-events' link_target='' size='sm
 all' position='center' label_display='' title_attr='' icon_select='yes' ico
 n='ue85b' font='entypo-fontello' color='custom' custom_bg='#b5123e' custom_
 font='#ffffff' av_uid='' id='' custom_class='' admin_preview_bg='']</p>
CATEGORIES:Öffentliches Recht
LOCATION:Hybrid
GEO:0.000000;0.000000
ORGANIZER;CN="ViFa-Recht":MAILTO:vifa-recht@sbb.spk-berlin.de
URL;VALUE=URI:https://events.intrecht.de/termine/termin/the-collaborative-c
 onstitution-book-launch-symposium/
END:VEVENT
BEGIN:VTIMEZONE
TZID:Europe/Berlin
BEGIN:STANDARD
TZOFFSETFROM:+0200
TZOFFSETTO:+0100
DTSTART:20231029T010000
TZNAME:CET
END:STANDARD
END:VTIMEZONE
END:VCALENDAR
