BEGIN:VCALENDAR
VERSION:2.0
PRODID:-//Events | FID-Recht//NONSGML Events//EN
CALSCALE:GREGORIAN
X-ORIGINAL-URL:https://events.intrecht.de/termine/
X-WR-CALDESC:Events | FID-Recht - Events
BEGIN:VEVENT
UID:20200603T1418Z-1591193923.3362-EO-587-1@172.16.200.141
STATUS:CONFIRMED
DTSTAMP:20260422T175229Z
CREATED:20240613T100023Z
LAST-MODIFIED:20240613T100023Z
DTSTART;VALUE=DATE:20241024
DTEND;VALUE=DATE:20241026
SUMMARY: The Cognition\, Behavior & Evolution Network in the Low Countries 
 (Conference)
DESCRIPTION: 24.-25.10.2024 / Maastricht https://csl.mpg.de/events/37552/31
 23
X-ALT-DESC;FMTTYPE=text/html: <p>24.-25.10.2024 / Maastricht</p><p><a href=
 "https://csl.mpg.de/events/37552/3123">https://csl.mpg.de/events/37552/3123
 </a></p><p>[av_button label='iCal-Export' link='./feed/eo-events' link_targ
 et='' size='small' position='center' label_display='' title_attr='' icon_se
 lect='yes' icon='ue85b' font='entypo-fontello' color='custom' custom_bg='#b
 5123e' custom_font='#ffffff' av_uid='' id='' custom_class='' admin_preview_
 bg='']</p>
CATEGORIES:Recht interdisziplinär
LOCATION:Ausland
GEO:0.000000;0.000000
ORGANIZER;CN="ViFa-Recht":MAILTO:vifa-recht@sbb.spk-berlin.de
URL;VALUE=URI:https://events.intrecht.de/termine/termin/the-cognition-behav
 ior-evolution-network-in-the-low-countries-conference/
END:VEVENT
BEGIN:VTIMEZONE
TZID:Europe/Berlin
BEGIN:DAYLIGHT
TZOFFSETFROM:+0100
TZOFFSETTO:+0200
DTSTART:20240331T010000
TZNAME:CEST
END:DAYLIGHT
END:VTIMEZONE
END:VCALENDAR
