BEGIN:VCALENDAR
VERSION:2.0
PRODID:-//Events | FID-Recht//NONSGML Events//EN
CALSCALE:GREGORIAN
X-ORIGINAL-URL:https://events.intrecht.de/termine/
X-WR-CALDESC:Events | FID-Recht - Events
BEGIN:VEVENT
UID:20200603T1418Z-1591193923.3362-EO-587-1@172.16.200.141
STATUS:CONFIRMED
DTSTAMP:20260425T183108Z
CREATED:20231021T153618Z
LAST-MODIFIED:20231021T153618Z
DTSTART;VALUE=DATE:20231212
DTEND;VALUE=DATE:20231213
SUMMARY: The Challenges of International Law-Making for the Use of Informat
 ion and Communication Technologies (Seminar)
DESCRIPTION: 12.12.2023 / Essex (Einreichungsfrist: 31.10.2023) https://www
 .essex.ac.uk/events/2023/10/31/challenges-international-law-making
X-ALT-DESC;FMTTYPE=text/html: <p>12.12.2023 / Essex <strong>(Einreichungsfr
 ist: 31.10.2023)</strong></p><p><a href="https://www.essex.ac.uk/events/202
 3/10/31/challenges-international-law-making">https://www.essex.ac.uk/events
 /2023/10/31/challenges-international-law-making</a></p><p>[av_button label=
 'iCal-Export' link='./feed/eo-events' link_target='' size='small' position=
 'center' label_display='' title_attr='' icon_select='yes' icon='ue85b' font
 ='entypo-fontello' color='custom' custom_bg='#b5123e' custom_font='#ffffff'
  av_uid='' id='' custom_class='' admin_preview_bg='']</p>
CATEGORIES:Recht interdisziplinär
LOCATION:Ausland
GEO:0.000000;0.000000
ORGANIZER;CN="ViFa-Recht":MAILTO:vifa-recht@sbb.spk-berlin.de
URL;VALUE=URI:https://events.intrecht.de/termine/termin/the-challenges-of-i
 nternational-law-making-for-the-use-of-information-and-communication-techno
 logies-seminar/
END:VEVENT
BEGIN:VTIMEZONE
TZID:Europe/Berlin
BEGIN:STANDARD
TZOFFSETFROM:+0200
TZOFFSETTO:+0100
DTSTART:20231029T010000
TZNAME:CET
END:STANDARD
END:VTIMEZONE
END:VCALENDAR
