BEGIN:VCALENDAR
VERSION:2.0
PRODID:-//Events | FID-Recht//NONSGML Events//EN
CALSCALE:GREGORIAN
X-ORIGINAL-URL:https://events.intrecht.de/termine/
X-WR-CALDESC:Events | FID-Recht - Events
BEGIN:VEVENT
UID:20200603T1418Z-1591193923.3362-EO-587-1@172.16.200.141
STATUS:CONFIRMED
DTSTAMP:20260422T173910Z
CREATED:20240802T090100Z
LAST-MODIFIED:20240802T090100Z
DTSTART;VALUE=DATE:20250109
DTEND;VALUE=DATE:20250111
SUMMARY: The Case of the S.S. Lotus: The first 100 Years (Inaugural Hybrid 
 Workshop)
DESCRIPTION: 9.-10.1.2025 / Online und Lund (Einreichungsfrist: 4.10.2024) 
 https://esil-sedi.eu/wp-content/uploads/2024/06/2024-06-Lotus-CfP.pdf
X-ALT-DESC;FMTTYPE=text/html: <p>9.-10.1.2025 / Online und Lund <strong>(Ei
 nreichungsfrist: 4.10.2024) </strong></p><p><a href="https://esil-sedi.eu/w
 p-content/uploads/2024/06/2024-06-Lotus-CfP.pdf">https://esil-sedi.eu/wp-co
 ntent/uploads/2024/06/2024-06-Lotus-CfP.pdf</a></p><p>[av_button label='iCa
 l-Export' link='./feed/eo-events' link_target='' size='small' position='cen
 ter' label_display='' title_attr='' icon_select='yes' icon='ue85b' font='en
 typo-fontello' color='custom' custom_bg='#b5123e' custom_font='#ffffff' av_
 uid='' id='' custom_class='' admin_preview_bg='']</p>
CATEGORIES:Recht interdisziplinär
LOCATION:Hybrid
GEO:0.000000;0.000000
ORGANIZER;CN="ViFa-Recht":MAILTO:vifa-recht@sbb.spk-berlin.de
URL;VALUE=URI:https://events.intrecht.de/termine/termin/the-case-of-the-s-s
 -lotus-the-first-100-years-inaugural-hybrid-workshop/
END:VEVENT
BEGIN:VTIMEZONE
TZID:Europe/Berlin
BEGIN:STANDARD
TZOFFSETFROM:+0200
TZOFFSETTO:+0100
DTSTART:20241027T010000
TZNAME:CET
END:STANDARD
END:VTIMEZONE
END:VCALENDAR
