BEGIN:VCALENDAR
VERSION:2.0
PRODID:-//Events | FID-Recht//NONSGML Events//EN
CALSCALE:GREGORIAN
X-ORIGINAL-URL:https://events.intrecht.de/termine/
X-WR-CALDESC:Events | FID-Recht - Events
BEGIN:VEVENT
UID:20200602T0945Z-1591091115.9737-EO-599-1@172.16.200.141
STATUS:CONFIRMED
DTSTAMP:20260425T211531Z
CREATED:20260310T091017Z
LAST-MODIFIED:20260310T091017Z
DTSTART;VALUE=DATE:20270524
DTEND;VALUE=DATE:20270526
SUMMARY: The Borderlands of Criminal Law II (Transnational Criminal Law Rev
 iew Conference)
DESCRIPTION: 24.-25.5.2027 / Saarland (Einreichungsfrist: 1.5.2026) https:/
 /www.uni-saarland.de/fileadmin/upload/lehrstuhl/brodowski/pdf-anhaenge/cfp.
 pdf
X-ALT-DESC;FMTTYPE=text/html: <p>24.-25.5.2027 / Saarland <strong>(Einreich
 ungsfrist: 1.5.2026)</strong></p><p><a href="https://www.uni-saarland.de/fi
 leadmin/upload/lehrstuhl/brodowski/pdf-anhaenge/cfp.pdf">https://www.uni-sa
 arland.de/fileadmin/upload/lehrstuhl/brodowski/pdf-anhaenge/cfp.pdf</a></p>
 <p>[av_button label='iCal-Export' link='./feed/eo-events' link_target='' si
 ze='small' position='center' label_display='' title_attr='' icon_select='ye
 s' icon='ue85b' font='entypo-fontello' color='custom' custom_bg='#b5123e' c
 ustom_font='#ffffff' av_uid='' id='' custom_class='' admin_preview_bg='']</
 p>
CATEGORIES:Strafrecht
LOCATION:Inland
GEO:0.000000;0.000000
ORGANIZER;CN="ViFa-Recht":MAILTO:vifa-recht@sbb.spk-berlin.de
URL;VALUE=URI:https://events.intrecht.de/termine/termin/the-borderlands-of-
 criminal-law-ii-transnational-criminal-law-review-conference/
END:VEVENT
BEGIN:VTIMEZONE
TZID:Europe/Berlin
BEGIN:DAYLIGHT
TZOFFSETFROM:+0100
TZOFFSETTO:+0200
DTSTART:20270328T010000
TZNAME:CEST
END:DAYLIGHT
END:VTIMEZONE
END:VCALENDAR
