BEGIN:VCALENDAR
VERSION:2.0
PRODID:-//Events | FID-Recht//NONSGML Events//EN
CALSCALE:GREGORIAN
X-ORIGINAL-URL:https://events.intrecht.de/termine/
X-WR-CALDESC:Events | FID-Recht - Events
BEGIN:VEVENT
UID:20221105T2029Z-1667680162.0471-EO-6902-1@172.16.200.151
STATUS:CONFIRMED
DTSTAMP:20260421T133513Z
CREATED:20221102T143225Z
LAST-MODIFIED:20221102T143225Z
DTSTART;VALUE=DATE:20221109
DTEND;VALUE=DATE:20221110
SUMMARY: The Belfast Good Friday Agreement – A catalyst of social transform
 ation or a missed opportunity? (Seminar)
DESCRIPTION: 9.11.2022 / Online und Belfast https://www.legalscholars.ac.uk
 /event/seminar-the-belfast-good-friday-agreement-a-catalyst-of-social-trans
 formation-or-a-missed-opportunity/  
X-ALT-DESC;FMTTYPE=text/html: <p>9.11.2022 / Online und Belfast</p><p><a hr
 ef="https://www.legalscholars.ac.uk/event/seminar-the-belfast-good-friday-a
 greement-a-catalyst-of-social-transformation-or-a-missed-opportunity/">http
 s://www.legalscholars.ac.uk/event/seminar-the-belfast-good-friday-agreement
 -a-catalyst-of-social-transformation-or-a-missed-opportunity/</a></p><p> </
 p><p>[av_button label='iCal-Export' link='./feed/eo-events' link_target='' 
 size='small' position='center' label_display='' title_attr='' icon_select='
 yes' icon='ue85b' font='entypo-fontello' color='custom' custom_bg='#b5123e'
  custom_font='#ffffff' av_uid='' id='' custom_class='' admin_preview_bg='']
 </p>
CATEGORIES:Europäisches / Internationales Recht
LOCATION:Online
GEO:0.000000;0.000000
ORGANIZER;CN="ViFa-Recht":MAILTO:vifa-recht@sbb.spk-berlin.de
URL;VALUE=URI:https://events.intrecht.de/termine/termin/the-belfast-good-fr
 iday-agreement-a-catalyst-of-social-transformation-or-a-missed-opportunity-
 seminar/
END:VEVENT
BEGIN:VTIMEZONE
TZID:Europe/Berlin
BEGIN:STANDARD
TZOFFSETFROM:+0200
TZOFFSETTO:+0100
DTSTART:20221030T010000
TZNAME:CET
END:STANDARD
END:VTIMEZONE
END:VCALENDAR
