BEGIN:VCALENDAR
VERSION:2.0
PRODID:-//Events | FID-Recht//NONSGML Events//EN
CALSCALE:GREGORIAN
X-ORIGINAL-URL:https://events.intrecht.de/termine/
X-WR-CALDESC:Events | FID-Recht - Events
BEGIN:VEVENT
UID:20200603T1418Z-1591193923.3362-EO-587-1@172.16.200.141
STATUS:CONFIRMED
DTSTAMP:20260425T145722Z
CREATED:20230717T064728Z
LAST-MODIFIED:20230717T064728Z
DTSTART;VALUE=DATE:20230719
DTEND;VALUE=DATE:20230720
SUMMARY: The BBNJ Agreement: A ‘New York Moment’ for the Oceans? (Online-Ve
 ranstaltung)
DESCRIPTION: 19.7.2023 / Online https://law.mpg.de/event/the-bbnj-agreement
 -a-new-york-moment-for-the-oceans/
X-ALT-DESC;FMTTYPE=text/html: <p>19.7.2023 / Online</p><p><a href="https://
 law.mpg.de/event/the-bbnj-agreement-a-new-york-moment-for-the-oceans/">http
 s://law.mpg.de/event/the-bbnj-agreement-a-new-york-moment-for-the-oceans/</
 a></p><p>[av_button label='iCal-Export' link='./feed/eo-events' link_target
 ='' size='small' position='center' label_display='' title_attr='' icon_sele
 ct='yes' icon='ue85b' font='entypo-fontello' color='custom' custom_bg='#b51
 23e' custom_font='#ffffff' av_uid='' id='' custom_class='' admin_preview_bg
 ='']</p>
CATEGORIES:Recht interdisziplinär
LOCATION:Online
GEO:0.000000;0.000000
ORGANIZER;CN="ViFa-Recht":MAILTO:vifa-recht@sbb.spk-berlin.de
URL;VALUE=URI:https://events.intrecht.de/termine/termin/the-bbnj-agreement-
 a-new-york-moment-for-the-oceans-online-veranstaltung/
END:VEVENT
BEGIN:VTIMEZONE
TZID:Europe/Berlin
BEGIN:DAYLIGHT
TZOFFSETFROM:+0100
TZOFFSETTO:+0200
DTSTART:20230326T010000
TZNAME:CEST
END:DAYLIGHT
END:VTIMEZONE
END:VCALENDAR
