BEGIN:VCALENDAR
VERSION:2.0
PRODID:-//Events | FID-Recht//NONSGML Events//EN
CALSCALE:GREGORIAN
X-ORIGINAL-URL:https://events.intrecht.de/termine/
X-WR-CALDESC:Events | FID-Recht - Events
BEGIN:VEVENT
UID:20200603T1418Z-1591193923.3362-EO-587-1@172.16.200.141
STATUS:CONFIRMED
DTSTAMP:20260422T064417Z
CREATED:20240920T152441Z
LAST-MODIFIED:20240920T152441Z
DTSTART;VALUE=DATE:20250116
DTEND;VALUE=DATE:20250118
SUMMARY: The autonomy of EU law under pressure? The changing landscape of t
 he interactions between EU law and international law (Workshop)
DESCRIPTION: 16.-17.1.2025 / Wien (Einreichungsfrist: 31.10.2024) https://w
 ww.wu.ac.at/fileadmin/wu/d/i/lawgov/Events/Autonomy_under_pressure/Call_for
 _Papers.pdf
X-ALT-DESC;FMTTYPE=text/html: <p>16.-17.1.2025 / Wien <strong>(Einreichungs
 frist: 31.10.2024)</strong></p><p><a href="https://www.wu.ac.at/fileadmin/w
 u/d/i/lawgov/Events/Autonomy_under_pressure/Call_for_Papers.pdf">https://ww
 w.wu.ac.at/fileadmin/wu/d/i/lawgov/Events/Autonomy_under_pressure/Call_for_
 Papers.pdf</a></p><p>[av_button label='iCal-Export' link='./feed/eo-events'
  link_target='' size='small' position='center' label_display='' title_attr=
 '' icon_select='yes' icon='ue85b' font='entypo-fontello' color='custom' cus
 tom_bg='#b5123e' custom_font='#ffffff' av_uid='' id='' custom_class='' admi
 n_preview_bg='']</p>
CATEGORIES:Europäisches / Internationales Recht
LOCATION:Ausland
GEO:0.000000;0.000000
ORGANIZER;CN="ViFa-Recht":MAILTO:vifa-recht@sbb.spk-berlin.de
URL;VALUE=URI:https://events.intrecht.de/termine/termin/the-autonomy-of-eu-
 law-under-pressure-the-changing-landscape-of-the-interactions-between-eu-la
 w-and-international-law-workshop/
END:VEVENT
BEGIN:VTIMEZONE
TZID:Europe/Berlin
BEGIN:STANDARD
TZOFFSETFROM:+0200
TZOFFSETTO:+0100
DTSTART:20241027T010000
TZNAME:CET
END:STANDARD
END:VTIMEZONE
END:VCALENDAR
