BEGIN:VCALENDAR
VERSION:2.0
PRODID:-//Events | FID-Recht//NONSGML Events//EN
CALSCALE:GREGORIAN
X-ORIGINAL-URL:https://events.intrecht.de/termine/
X-WR-CALDESC:Events | FID-Recht - Events
BEGIN:VEVENT
UID:20200602T0945Z-1591091115.9737-EO-599-1@172.16.200.141
STATUS:CONFIRMED
DTSTAMP:20260423T052632Z
CREATED:20260318T125424Z
LAST-MODIFIED:20260318T125424Z
DTSTART;VALUE=DATE:20260401
DTEND;VALUE=DATE:20260402
SUMMARY: The Authority of Style: Hallucinations and the Epistemic Breach in
  Law (Virtual Lecture)
DESCRIPTION: 1.4.2026 / Online https://events.mpipriv.de/b?p=speaker_series
 _with_damien_charlotin
X-ALT-DESC;FMTTYPE=text/html: <p>1.4.2026 / Online</p><p><a href="https://e
 vents.mpipriv.de/b?p=speaker_series_with_damien_charlotin">https://events.m
 pipriv.de/b?p=speaker_series_with_damien_charlotin</a></p><p>[av_button lab
 el='iCal-Export' link='./feed/eo-events' link_target='' size='small' positi
 on='center' label_display='' title_attr='' icon_select='yes' icon='ue85b' f
 ont='entypo-fontello' color='custom' custom_bg='#b5123e' custom_font='#ffff
 ff' av_uid='' id='' custom_class='' admin_preview_bg='']</p>
CATEGORIES:Recht interdisziplinär
LOCATION:Online
GEO:0.000000;0.000000
ORGANIZER;CN="ViFa-Recht":MAILTO:vifa-recht@sbb.spk-berlin.de
URL;VALUE=URI:https://events.intrecht.de/termine/termin/the-authority-of-st
 yle-hallucinations-and-the-epistemic-breach-in-law-virtual-lecture/
END:VEVENT
BEGIN:VTIMEZONE
TZID:Europe/Berlin
BEGIN:DAYLIGHT
TZOFFSETFROM:+0100
TZOFFSETTO:+0200
DTSTART:20260329T010000
TZNAME:CEST
END:DAYLIGHT
END:VTIMEZONE
END:VCALENDAR
