BEGIN:VCALENDAR
VERSION:2.0
PRODID:-//Events | FID-Recht//NONSGML Events//EN
CALSCALE:GREGORIAN
X-ORIGINAL-URL:https://events.intrecht.de/termine/
X-WR-CALDESC:Events | FID-Recht - Events
BEGIN:VEVENT
UID:20210131T0714Z-1612077292.6772-EO-3052-1@172.16.200.141
STATUS:CONFIRMED
DTSTAMP:20260422T213439Z
CREATED:20210126T201836Z
LAST-MODIFIED:20210126T201851Z
DTSTART;TZID=Europe/Berlin:20210202T141500
DTEND;TZID=Europe/Berlin:20210202T160000
SUMMARY: The Archival Epistemology of Political Economy in the Early Modern
  British Atlantic World (mpilhlt Kolloquium: Archive) (Online-Konferenz)
DESCRIPTION: 2.2.2021\, Online https://www.rg.mpg.de/events/27161/2077701  
X-ALT-DESC;FMTTYPE=text/html: <p>2.2.2021\, Online</p><p><a href="https://w
 ww.rg.mpg.de/events/27161/2077701">https://www.rg.mpg.de/events/27161/20777
 01</a></p><p> </p><p>[av_button label='iCal-Export' link='./feed/eo-events'
  link_target='' size='small' position='center' label_display='' title_attr=
 '' icon_select='yes' icon='ue85b' font='entypo-fontello' color='custom' cus
 tom_bg='#b5123e' custom_font='#ffffff' av_uid='' id='' custom_class='' admi
 n_preview_bg='']</p>
CATEGORIES:Europäisches / Internationales Recht,Recht interdisziplinär
LOCATION:Online
GEO:0.000000;0.000000
ORGANIZER;CN="ViFa-Recht":MAILTO:vifa-recht@sbb.spk-berlin.de
URL;VALUE=URI:https://events.intrecht.de/termine/termin/the-archival-episte
 mology-of-political-economy-in-the-early-modern-british-atlantic-world-mpil
 hlt-kolloquium-archive-online-konferenz/
END:VEVENT
BEGIN:VTIMEZONE
TZID:Europe/Berlin
BEGIN:STANDARD
TZOFFSETFROM:+0200
TZOFFSETTO:+0100
DTSTART:20201025T010000
TZNAME:CET
END:STANDARD
END:VTIMEZONE
END:VCALENDAR
