BEGIN:VCALENDAR
VERSION:2.0
PRODID:-//Events | FID-Recht//NONSGML Events//EN
CALSCALE:GREGORIAN
X-ORIGINAL-URL:https://events.intrecht.de/termine/
X-WR-CALDESC:Events | FID-Recht - Events
BEGIN:VEVENT
UID:20200602T0945Z-1591091115.9737-EO-599-1@172.16.200.141
STATUS:CONFIRMED
DTSTAMP:20260423T070848Z
CREATED:20251120T134727Z
LAST-MODIFIED:20251120T134727Z
DTSTART;VALUE=DATE:20260128
DTEND;VALUE=DATE:20260131
SUMMARY: The ambivalent relationship of Union Citizenship and Member State 
 nationality (Windy Roads-Conference)
DESCRIPTION: 28.-30.1.2026 / Berlin https://www.rewi.hu-berlin.de/en/lf/oe/
 rhp/events/conference-windy-roads-2026
X-ALT-DESC;FMTTYPE=text/html: <p>28.-30.1.2026 / Berlin</p><p><a href="http
 s://www.rewi.hu-berlin.de/en/lf/oe/rhp/events/conference-windy-roads-2026">
 https://www.rewi.hu-berlin.de/en/lf/oe/rhp/events/conference-windy-roads-20
 26</a></p><p>[av_button label='iCal-Export' link='./feed/eo-events' link_ta
 rget='' size='small' position='center' label_display='' title_attr='' icon_
 select='yes' icon='ue85b' font='entypo-fontello' color='custom' custom_bg='
 #b5123e' custom_font='#ffffff' av_uid='' id='' custom_class='' admin_previe
 w_bg='']</p>
CATEGORIES:Europäisches / Internationales Recht
LOCATION:Inland
GEO:0.000000;0.000000
ORGANIZER;CN="ViFa-Recht":MAILTO:vifa-recht@sbb.spk-berlin.de
URL;VALUE=URI:https://events.intrecht.de/termine/termin/the-ambivalent-rela
 tionship-of-union-citizenship-and-member-state-nationality-windy-roads-conf
 erence/
END:VEVENT
BEGIN:VTIMEZONE
TZID:Europe/Berlin
BEGIN:STANDARD
TZOFFSETFROM:+0200
TZOFFSETTO:+0100
DTSTART:20251026T010000
TZNAME:CET
END:STANDARD
END:VTIMEZONE
END:VCALENDAR
