BEGIN:VCALENDAR
VERSION:2.0
PRODID:-//Events | FID-Recht//NONSGML Events//EN
CALSCALE:GREGORIAN
X-ORIGINAL-URL:https://events.intrecht.de/termine/
X-WR-CALDESC:Events | FID-Recht - Events
BEGIN:VEVENT
UID:20200603T1418Z-1591193923.3362-EO-587-1@172.16.200.141
STATUS:CONFIRMED
DTSTAMP:20260422T071734Z
CREATED:20231214T192902Z
LAST-MODIFIED:20231214T192902Z
DTSTART;VALUE=DATE:20240126
DTEND;VALUE=DATE:20240127
SUMMARY: The aftermath of WS and Others v. Frontex: is the battle for accou
 ntability lost? (Hybrid-Event)
DESCRIPTION: 26.1.2024 / Online und Brüssel https://www.maastrichtuniversit
 y.nl/events/aftermath-ws-and-others-v-frontex-battle-accountability-lost
X-ALT-DESC;FMTTYPE=text/html: <p>26.1.2024 / Online und Brüssel</p><p><a hr
 ef="https://www.maastrichtuniversity.nl/events/aftermath-ws-and-others-v-fr
 ontex-battle-accountability-lost">https://www.maastrichtuniversity.nl/event
 s/aftermath-ws-and-others-v-frontex-battle-accountability-lost</a></p><p>[a
 v_button label='iCal-Export' link='./feed/eo-events' link_target='' size='s
 mall' position='center' label_display='' title_attr='' icon_select='yes' ic
 on='ue85b' font='entypo-fontello' color='custom' custom_bg='#b5123e' custom
 _font='#ffffff' av_uid='' id='' custom_class='' admin_preview_bg='']</p>
CATEGORIES:Recht interdisziplinär
LOCATION:Online
GEO:0.000000;0.000000
ORGANIZER;CN="ViFa-Recht":MAILTO:vifa-recht@sbb.spk-berlin.de
URL;VALUE=URI:https://events.intrecht.de/termine/termin/the-aftermath-of-ws
 -and-others-v-frontex-is-the-battle-for-accountability-lost-hybrid-event/
END:VEVENT
BEGIN:VTIMEZONE
TZID:Europe/Berlin
BEGIN:STANDARD
TZOFFSETFROM:+0200
TZOFFSETTO:+0100
DTSTART:20231029T010000
TZNAME:CET
END:STANDARD
END:VTIMEZONE
END:VCALENDAR
