BEGIN:VCALENDAR
VERSION:2.0
PRODID:-//Events | FID-Recht//NONSGML Events//EN
CALSCALE:GREGORIAN
X-ORIGINAL-URL:https://events.intrecht.de/termine/
X-WR-CALDESC:Events | FID-Recht - Events
BEGIN:VEVENT
UID:20200603T1418Z-1591193923.3362-EO-587-1@172.16.200.141
STATUS:CONFIRMED
DTSTAMP:20260425T220224Z
CREATED:20230628T093441Z
LAST-MODIFIED:20230628T093441Z
DTSTART;VALUE=DATE:20231110
DTEND;VALUE=DATE:20231112
SUMMARY: The African Renaissance in the Age of Globalization – What Role fo
 r International Investment Law? (International Conference)
DESCRIPTION: 10.-11.11.2023 / Padua (Frist für Einreichungen: 15.7.2023) ht
 tps://www.spgi.unipd.it/international-conference-african-renaissance-age-gl
 obalization
X-ALT-DESC;FMTTYPE=text/html: <p>10.-11.11.2023 / Padua <strong>(Frist für 
 Einreichungen:</strong> <strong>15.7.2023)</strong></p><p><a href="https://
 www.spgi.unipd.it/international-conference-african-renaissance-age-globaliz
 ation">https://www.spgi.unipd.it/international-conference-african-renaissan
 ce-age-globalization</a></p><p>[av_button label='iCal-Export' link='./feed/
 eo-events' link_target='' size='small' position='center' label_display='' t
 itle_attr='' icon_select='yes' icon='ue85b' font='entypo-fontello' color='c
 ustom' custom_bg='#b5123e' custom_font='#ffffff' av_uid='' id='' custom_cla
 ss='' admin_preview_bg='']</p>
CATEGORIES:Europäisches / Internationales Recht
LOCATION:Ausland
GEO:0.000000;0.000000
ORGANIZER;CN="ViFa-Recht":MAILTO:vifa-recht@sbb.spk-berlin.de
URL;VALUE=URI:https://events.intrecht.de/termine/termin/the-african-renaiss
 ance-in-the-age-of-globalization-what-role-for-international-investment-law
 -international-conference/
END:VEVENT
BEGIN:VTIMEZONE
TZID:Europe/Berlin
BEGIN:STANDARD
TZOFFSETFROM:+0200
TZOFFSETTO:+0100
DTSTART:20231029T010000
TZNAME:CET
END:STANDARD
END:VTIMEZONE
END:VCALENDAR
