BEGIN:VCALENDAR
VERSION:2.0
PRODID:-//Events | FID-Recht//NONSGML Events//EN
CALSCALE:GREGORIAN
X-ORIGINAL-URL:https://events.intrecht.de/termine/
X-WR-CALDESC:Events | FID-Recht - Events
BEGIN:VEVENT
UID:20220611T0401Z-1654920119.8333-EO-4052-1@172.16.200.151
STATUS:CONFIRMED
DTSTAMP:20260421T102702Z
CREATED:20220609T165811Z
LAST-MODIFIED:20220609T165811Z
DTSTART;VALUE=DATE:20220421
DTEND;VALUE=DATE:20220423
SUMMARY: The 21st Annual Conference on European Tort Law (Online-Tagung)
DESCRIPTION: 21.-22.4.2022\, Online Annual Conference (ACET) (oeaw.ac.at)  
X-ALT-DESC;FMTTYPE=text/html: <p>21.-22.4.2022\, Online</p><p><a href="http
 s://www.oeaw.ac.at/etl/events/annual-conference-acet/">Annual Conference (A
 CET) (oeaw.ac.at)</a></p><p> </p><p>[av_button label='iCal-Export' link='./
 feed/eo-events' link_target='' size='small' position='center' label_display
 ='' title_attr='' icon_select='yes' icon='ue85b' font='entypo-fontello' col
 or='custom' custom_bg='#b5123e' custom_font='#ffffff' av_uid='' id='' custo
 m_class='' admin_preview_bg='']</p>
CATEGORIES:Europäisches / Internationales Recht,Zivilrecht
LOCATION:Online
GEO:0.000000;0.000000
ORGANIZER;CN="ViFa-Recht":MAILTO:vifa-recht@sbb.spk-berlin.de
URL;VALUE=URI:https://events.intrecht.de/termine/termin/the-21st-annual-con
 ference-on-european-tort-law-online-tagung/
END:VEVENT
BEGIN:VTIMEZONE
TZID:Europe/Berlin
BEGIN:DAYLIGHT
TZOFFSETFROM:+0100
TZOFFSETTO:+0200
DTSTART:20220327T010000
TZNAME:CEST
END:DAYLIGHT
END:VTIMEZONE
END:VCALENDAR
