BEGIN:VCALENDAR
VERSION:2.0
PRODID:-//Events | FID-Recht//NONSGML Events//EN
CALSCALE:GREGORIAN
X-ORIGINAL-URL:https://events.intrecht.de/termine/
X-WR-CALDESC:Events | FID-Recht - Events
BEGIN:VEVENT
UID:20210216T2131Z-1613511079.7986-EO-3248-1@172.16.200.141
STATUS:CONFIRMED
DTSTAMP:20260421T115305Z
CREATED:20210126T184041Z
LAST-MODIFIED:20210126T184109Z
DTSTART;VALUE=DATE:20210129
DTEND;VALUE=DATE:20210213
SUMMARY: Migrationsrecht in Zeiten der Pandemie – quo vadis? (Hohenheimer T
 age zum Migrationsrecht) (Online-Tagung)
DESCRIPTION: 29.1.-12.2.2021\, Online https://www.akademie-rs.de/programm/a
 ktuell?tx_crieventmodule_veranstaltungen%5Baction%5D=show&tx_crieventmodule
 _veranstaltungen%5Bcontroller%5D=Veranstaltungen&tx_crieventmodule_veransta
 ltungen%5Buid%5D=24190&cHash=20d05679889b686399c800a2bc566b6d  
X-ALT-DESC;FMTTYPE=text/html: <p>29.1.-12.2.2021\, Online</p><p><a href="ht
 tps://www.akademie-rs.de/programm/aktuell?tx_crieventmodule_veranstaltungen
 %5Baction%5D=show&tx_crieventmodule_veranstaltungen%5Bcontroller%5D=Veranst
 altungen&tx_crieventmodule_veranstaltungen%5Buid%5D=24190&cHash=20d05679889
 b686399c800a2bc566b6d">https://www.akademie-rs.de/programm/aktuell?tx_criev
 entmodule_veranstaltungen%5Baction%5D=show&tx_crieventmodule_veranstaltunge
 n%5Bcontroller%5D=Veranstaltungen&tx_crieventmodule_veranstaltungen%5Buid%5
 D=24190&cHash=20d05679889b686399c800a2bc566b6d</a></p><p> </p><p>[av_button
  label='iCal-Export' link='./feed/eo-events' link_target='' size='small' po
 sition='center' label_display='' title_attr='' icon_select='yes' icon='ue85
 b' font='entypo-fontello' color='custom' custom_bg='#b5123e' custom_font='#
 ffffff' av_uid='' id='' custom_class='' admin_preview_bg='']</p>
CATEGORIES:Europäisches / Internationales Recht,Öffentliches Recht
LOCATION:Online
GEO:0.000000;0.000000
ORGANIZER;CN="ViFa-Recht":MAILTO:vifa-recht@sbb.spk-berlin.de
URL;VALUE=URI:https://events.intrecht.de/termine/termin/termin-template/
END:VEVENT
BEGIN:VTIMEZONE
TZID:Europe/Berlin
BEGIN:STANDARD
TZOFFSETFROM:+0200
TZOFFSETTO:+0100
DTSTART:20201025T010000
TZNAME:CET
END:STANDARD
END:VTIMEZONE
END:VCALENDAR
