BEGIN:VCALENDAR
VERSION:2.0
PRODID:-//Events | FID-Recht//NONSGML Events//EN
CALSCALE:GREGORIAN
X-ORIGINAL-URL:https://events.intrecht.de/termine/
X-WR-CALDESC:Events | FID-Recht - Events
BEGIN:VEVENT
UID:20200531T2344Z-1590968680.8639-EO-576-1@172.16.200.141
STATUS:CONFIRMED
DTSTAMP:20260421T151817Z
CREATED:20200515T165250Z
LAST-MODIFIED:20200708T175121Z
DTSTART;VALUE=DATE:20200527
DTEND;VALUE=DATE:20200530
SUMMARY: Tenth Annual RefoRC Conference on Early Modern Christianity 2020/2
 021 (Konferenz)
DESCRIPTION: VERSCHOBEN von 27.-29.5.2020\, Aarhus AUF 6.-8.5.2021\, Budape
 st https://www.reforc.com/tenth-annual-reforc-conference-2021/  
X-ALT-DESC;FMTTYPE=text/html: <p>VERSCHOBEN von 27.-29.5.2020\, Aarhus AUF 
 6.-8.5.2021\, Budapest</p><p><a href="https://www.reforc.com/tenth-annual-r
 eforc-conference-2021/">https://www.reforc.com/tenth-annual-reforc-conferen
 ce-2021/</a></p><p> </p><p>[av_button label='iCal-Export' link='./feed/eo-e
 vents' link_target='' size='small' position='center' label_display='' title
 _attr='' icon_select='yes' icon='ue85b' font='entypo-fontello' color='custo
 m' custom_bg='#b5123e' custom_font='#ffffff' av_uid='' id='' custom_class='
 ' admin_preview_bg='']</p>
CATEGORIES:Recht interdisziplinär
LOCATION:Ausland
GEO:0.000000;0.000000
ORGANIZER;CN="ViFa-Recht":MAILTO:vifa-recht@sbb.spk-berlin.de
URL;VALUE=URI:https://events.intrecht.de/termine/termin/tenth-annual-reforc
 -conference-on-early-modern-christianity-2020-2021-konferenz/
END:VEVENT
BEGIN:VTIMEZONE
TZID:Europe/Berlin
BEGIN:DAYLIGHT
TZOFFSETFROM:+0100
TZOFFSETTO:+0200
DTSTART:20200329T010000
TZNAME:CEST
END:DAYLIGHT
END:VTIMEZONE
END:VCALENDAR
