BEGIN:VCALENDAR
VERSION:2.0
PRODID:-//Events | FID-Recht//NONSGML Events//EN
CALSCALE:GREGORIAN
X-ORIGINAL-URL:https://events.intrecht.de/termine/
X-WR-CALDESC:Events | FID-Recht - Events
BEGIN:VEVENT
UID:20200531T2344Z-1590968680.8639-EO-576-1@172.16.200.141
STATUS:CONFIRMED
DTSTAMP:20260421T115505Z
CREATED:20200708T175234Z
LAST-MODIFIED:20200708T175234Z
DTSTART;VALUE=DATE:20210506
DTEND;VALUE=DATE:20210509
SUMMARY: Tenth Annual RefoRC Conference on Early Modern Christianity 2020/2
 021 (Konferenz)
DESCRIPTION: 6.-8.5.2021\, Budapest https://www.reforc.com/tenth-annual-ref
 orc-conference-2021/  
X-ALT-DESC;FMTTYPE=text/html: <p>6.-8.5.2021\, Budapest</p><p><a href="http
 s://www.reforc.com/tenth-annual-reforc-conference-2021/">https://www.reforc
 .com/tenth-annual-reforc-conference-2021/</a></p><p> </p><p>[av_button labe
 l='iCal-Export' link='./feed/eo-events' link_target='' size='small' positio
 n='center' label_display='' title_attr='' icon_select='yes' icon='ue85b' fo
 nt='entypo-fontello' color='custom' custom_bg='#b5123e' custom_font='#fffff
 f' av_uid='' id='' custom_class='' admin_preview_bg='']</p>
CATEGORIES:Recht interdisziplinär
LOCATION:Ausland
GEO:0.000000;0.000000
ORGANIZER;CN="ViFa-Recht":MAILTO:vifa-recht@sbb.spk-berlin.de
URL;VALUE=URI:https://events.intrecht.de/termine/termin/tenth-annual-reforc
 -conference-on-early-modern-christianity-2020-2021-konferenz-2/
END:VEVENT
BEGIN:VTIMEZONE
TZID:Europe/Berlin
BEGIN:DAYLIGHT
TZOFFSETFROM:+0100
TZOFFSETTO:+0200
DTSTART:20210328T010000
TZNAME:CEST
END:DAYLIGHT
END:VTIMEZONE
END:VCALENDAR
