BEGIN:VCALENDAR
VERSION:2.0
PRODID:-//Events | FID-Recht//NONSGML Events//EN
CALSCALE:GREGORIAN
X-ORIGINAL-URL:https://events.intrecht.de/termine/
X-WR-CALDESC:Events | FID-Recht - Events
BEGIN:VEVENT
UID:20200603T1418Z-1591193923.3362-EO-587-1@172.16.200.141
STATUS:CONFIRMED
DTSTAMP:20260425T214917Z
CREATED:20231004T073439Z
LAST-MODIFIED:20231004T073439Z
DTSTART;VALUE=DATE:20240905
DTEND;VALUE=DATE:20240907
SUMMARY: Technological Change and International Law (19th Annual Conference
  of the European Society of International Law)
DESCRIPTION: 5.-6.9.2024 / Vilnius (Einreichungsfrist: 31.1.2024) https://w
 ww.esil2024vilnius.lt/call-for-abstracts/
X-ALT-DESC;FMTTYPE=text/html: <p>5.-6.9.2024 / Vilnius <strong>(Einreichung
 sfrist: 31.1.2024)</strong></p><p><a href="https://www.esil2024vilnius.lt/c
 all-for-abstracts/">https://www.esil2024vilnius.lt/call-for-abstracts/</a><
 /p><p>[av_button label='iCal-Export' link='./feed/eo-events' link_target=''
  size='small' position='center' label_display='' title_attr='' icon_select=
 'yes' icon='ue85b' font='entypo-fontello' color='custom' custom_bg='#b5123e
 ' custom_font='#ffffff' av_uid='' id='' custom_class='' admin_preview_bg=''
 ]</p>
CATEGORIES:Europäisches / Internationales Recht
LOCATION:Ausland
GEO:0.000000;0.000000
ORGANIZER;CN="ViFa-Recht":MAILTO:vifa-recht@sbb.spk-berlin.de
URL;VALUE=URI:https://events.intrecht.de/termine/termin/technological-chang
 e-and-international-law-19th-annual-conference-of-the-european-society-of-i
 nternational-law/
END:VEVENT
BEGIN:VTIMEZONE
TZID:Europe/Berlin
BEGIN:DAYLIGHT
TZOFFSETFROM:+0100
TZOFFSETTO:+0200
DTSTART:20240331T010000
TZNAME:CEST
END:DAYLIGHT
END:VTIMEZONE
END:VCALENDAR
