BEGIN:VCALENDAR
VERSION:2.0
PRODID:-//Events | FID-Recht//NONSGML Events//EN
CALSCALE:GREGORIAN
X-ORIGINAL-URL:https://events.intrecht.de/termine/
X-WR-CALDESC:Events | FID-Recht - Events
BEGIN:VEVENT
UID:20221209T0008Z-1670544491.4336-EO-7756-1@172.16.200.151
STATUS:CONFIRMED
DTSTAMP:20260421T170139Z
CREATED:20221206T174522Z
LAST-MODIFIED:20221206T174522Z
DTSTART;VALUE=DATE:20230703
DTEND;VALUE=DATE:20230708
SUMMARY: Teaching Tomorrow’s Law Teachers (Workshop)
DESCRIPTION: 3.-7.7.2023 / London (Frist für Einreichungen: 9.1.2023) https
 ://www.legalscholars.ac.uk/event/workshop-teaching-tomorrows-law-teachers/ 
  
X-ALT-DESC;FMTTYPE=text/html: <p>3.-7.7.2023 / London <strong>(Frist für Ei
 nreichungen: 9.1.2023)</strong></p><p><a href="https://www.legalscholars.ac
 .uk/event/workshop-teaching-tomorrows-law-teachers/">https://www.legalschol
 ars.ac.uk/event/workshop-teaching-tomorrows-law-teachers/</a></p><p> </p><p
 >[av_button label='iCal-Export' link='./feed/eo-events' link_target='' size
 ='small' position='center' label_display='' title_attr='' icon_select='yes'
  icon='ue85b' font='entypo-fontello' color='custom' custom_bg='#b5123e' cus
 tom_font='#ffffff' av_uid='' id='' custom_class='' admin_preview_bg='']</p>
CATEGORIES:Recht interdisziplinär
LOCATION:Ausland
GEO:0.000000;0.000000
ORGANIZER;CN="ViFa-Recht":MAILTO:vifa-recht@sbb.spk-berlin.de
URL;VALUE=URI:https://events.intrecht.de/termine/termin/teaching-tomorrows-
 law-teachers-workshop/
END:VEVENT
BEGIN:VTIMEZONE
TZID:Europe/Berlin
BEGIN:DAYLIGHT
TZOFFSETFROM:+0100
TZOFFSETTO:+0200
DTSTART:20230326T010000
TZNAME:CEST
END:DAYLIGHT
END:VTIMEZONE
END:VCALENDAR
