BEGIN:VCALENDAR
VERSION:2.0
PRODID:-//Events | FID-Recht//NONSGML Events//EN
CALSCALE:GREGORIAN
X-ORIGINAL-URL:https://events.intrecht.de/termine/
X-WR-CALDESC:Events | FID-Recht - Events
BEGIN:VEVENT
UID:20200602T0945Z-1591091115.9737-EO-599-1@172.16.200.141
STATUS:CONFIRMED
DTSTAMP:20260423T052916Z
CREATED:20260417T075936Z
LAST-MODIFIED:20260417T075936Z
DTSTART;VALUE=DATE:20260608
DTEND;VALUE=DATE:20260611
SUMMARY: Teaching International Human Rights Law – in times of Normative Co
 ntestation (Conference / Hybrid Event)
DESCRIPTION: 8.-10.6.2026 / Online und Innsbruck https://www.uibk.ac.at/en/
 congress/teaching-international-human-rights-law/
X-ALT-DESC;FMTTYPE=text/html: <p>8.-10.6.2026 / Online und Innsbruck</p><p>
 <a href="https://www.uibk.ac.at/en/congress/teaching-international-human-ri
 ghts-law/">https://www.uibk.ac.at/en/congress/teaching-international-human-
 rights-law/</a></p><p>[av_button label='iCal-Export' link='./feed/eo-events
 ' link_target='' size='small' position='center' label_display='' title_attr
 ='' icon_select='yes' icon='ue85b' font='entypo-fontello' color='custom' cu
 stom_bg='#b5123e' custom_font='#ffffff' av_uid='' id='' custom_class='' adm
 in_preview_bg='']</p>
CATEGORIES:Europäisches / Internationales Recht
LOCATION:Hybrid
GEO:0.000000;0.000000
ORGANIZER;CN="ViFa-Recht":MAILTO:vifa-recht@sbb.spk-berlin.de
URL;VALUE=URI:https://events.intrecht.de/termine/termin/teaching-internatio
 nal-human-rights-law-in-times-of-normative-contestation-conference-hybrid-e
 vent/
END:VEVENT
BEGIN:VTIMEZONE
TZID:Europe/Berlin
BEGIN:DAYLIGHT
TZOFFSETFROM:+0100
TZOFFSETTO:+0200
DTSTART:20260329T010000
TZNAME:CEST
END:DAYLIGHT
END:VTIMEZONE
END:VCALENDAR
