BEGIN:VCALENDAR
VERSION:2.0
PRODID:-//Events | FID-Recht//NONSGML Events//EN
CALSCALE:GREGORIAN
X-ORIGINAL-URL:https://events.intrecht.de/termine/
X-WR-CALDESC:Events | FID-Recht - Events
BEGIN:VEVENT
UID:20221208T2316Z-1670541372.1588-EO-7728-1@172.16.200.151
STATUS:CONFIRMED
DTSTAMP:20260421T150600Z
CREATED:20221206T173111Z
LAST-MODIFIED:20221206T173111Z
DTSTART;VALUE=DATE:20221214
DTEND;VALUE=DATE:20221215
SUMMARY: Tatsachenermittlung im russisch-ukrainischen Krieg: Status\, Defiz
 ite und Desiderata (Vortrag)
DESCRIPTION: 14.12.2022 / Frankfurt am Main https://www.normativeorders.net
 /de/veranstaltungen/alleveranstaltungen  
X-ALT-DESC;FMTTYPE=text/html: <p>14.12.2022 / Frankfurt am Main</p><p><a hr
 ef="https://www.normativeorders.net/de/veranstaltungen/alleveranstaltungen"
 >https://www.normativeorders.net/de/veranstaltungen/alleveranstaltungen</a>
 </p><p> </p><p>[av_button label='iCal-Export' link='./feed/eo-events' link_
 target='' size='small' position='center' label_display='' title_attr='' ico
 n_select='yes' icon='ue85b' font='entypo-fontello' color='custom' custom_bg
 ='#b5123e' custom_font='#ffffff' av_uid='' id='' custom_class='' admin_prev
 iew_bg='']</p>
CATEGORIES:Recht interdisziplinär
LOCATION:Inland
GEO:0.000000;0.000000
ORGANIZER;CN="ViFa-Recht":MAILTO:vifa-recht@sbb.spk-berlin.de
URL;VALUE=URI:https://events.intrecht.de/termine/termin/tatsachenermittlung
 -im-russisch-ukrainischen-krieg-status-defizite-und-desiderata-vortrag/
END:VEVENT
BEGIN:VTIMEZONE
TZID:Europe/Berlin
BEGIN:STANDARD
TZOFFSETFROM:+0200
TZOFFSETTO:+0100
DTSTART:20221030T010000
TZNAME:CET
END:STANDARD
END:VTIMEZONE
END:VCALENDAR
