BEGIN:VCALENDAR
VERSION:2.0
PRODID:-//Events | FID-Recht//NONSGML Events//EN
CALSCALE:GREGORIAN
X-ORIGINAL-URL:https://events.intrecht.de/termine/
X-WR-CALDESC:Events | FID-Recht - Events
BEGIN:VEVENT
UID:20200603T1418Z-1591193923.3362-EO-587-1@172.16.200.141
STATUS:CONFIRMED
DTSTAMP:20260425T161208Z
CREATED:20230906T130524Z
LAST-MODIFIED:20230906T130524Z
DTSTART;VALUE=DATE:20230918
DTEND;VALUE=DATE:20230919
SUMMARY: Take-off Arbeitskreis Unionsrecht
DESCRIPTION: 18.9.2023 / Online https://voelkerrechtsblog.org/de/events/tak
 e-off-arbeitskreis-unionsrecht/
X-ALT-DESC;FMTTYPE=text/html: <p>18.9.2023 / Online</p><p><a href="https://
 voelkerrechtsblog.org/de/events/take-off-arbeitskreis-unionsrecht/">https:/
 /voelkerrechtsblog.org/de/events/take-off-arbeitskreis-unionsrecht/</a></p>
 <p>[av_button label='iCal-Export' link='./feed/eo-events' link_target='' si
 ze='small' position='center' label_display='' title_attr='' icon_select='ye
 s' icon='ue85b' font='entypo-fontello' color='custom' custom_bg='#b5123e' c
 ustom_font='#ffffff' av_uid='' id='' custom_class='' admin_preview_bg='']</
 p>
CATEGORIES:Europäisches / Internationales Recht
LOCATION:Online
GEO:0.000000;0.000000
ORGANIZER;CN="ViFa-Recht":MAILTO:vifa-recht@sbb.spk-berlin.de
URL;VALUE=URI:https://events.intrecht.de/termine/termin/take-off-arbeitskre
 is-unionsrecht/
END:VEVENT
BEGIN:VTIMEZONE
TZID:Europe/Berlin
BEGIN:DAYLIGHT
TZOFFSETFROM:+0100
TZOFFSETTO:+0200
DTSTART:20230326T010000
TZNAME:CEST
END:DAYLIGHT
END:VTIMEZONE
END:VCALENDAR
