BEGIN:VCALENDAR
VERSION:2.0
PRODID:-//Events | FID-Recht//NONSGML Events//EN
CALSCALE:GREGORIAN
X-ORIGINAL-URL:https://events.intrecht.de/termine/
X-WR-CALDESC:Events | FID-Recht - Events
BEGIN:VEVENT
UID:20200603T1418Z-1591193923.3362-EO-587-1@172.16.200.141
STATUS:CONFIRMED
DTSTAMP:20260425T214532Z
CREATED:20250401T100742Z
LAST-MODIFIED:20250401T100742Z
DTSTART;VALUE=DATE:20250401
DTEND;VALUE=DATE:20250402
SUMMARY: Take Domestic Law and Run? The Application of Foreign (Private? St
 ate?) Law in Times of Uncertainty (Virtual Workshop)
DESCRIPTION: 1.4.2025 / Online https://events.mpipriv.de/b?p=ipr_workshop_w
 ith_carlos_esplugues
X-ALT-DESC;FMTTYPE=text/html: <p>1.4.2025 / Online</p><p><a href="https://e
 vents.mpipriv.de/b?p=ipr_workshop_with_carlos_esplugues">https://events.mpi
 priv.de/b?p=ipr_workshop_with_carlos_esplugues</a></p><p>[av_button label='
 iCal-Export' link='./feed/eo-events' link_target='' size='small' position='
 center' label_display='' title_attr='' icon_select='yes' icon='ue85b' font=
 'entypo-fontello' color='custom' custom_bg='#b5123e' custom_font='#ffffff' 
 av_uid='' id='' custom_class='' admin_preview_bg='']</p>
CATEGORIES:Zivilrecht
LOCATION:Online
GEO:0.000000;0.000000
ORGANIZER;CN="ViFa-Recht":MAILTO:vifa-recht@sbb.spk-berlin.de
URL;VALUE=URI:https://events.intrecht.de/termine/termin/take-domestic-law-a
 nd-run-the-application-of-foreign-private-state-law-in-times-of-uncertainty
 -virtual-workshop/
END:VEVENT
BEGIN:VTIMEZONE
TZID:Europe/Berlin
BEGIN:DAYLIGHT
TZOFFSETFROM:+0100
TZOFFSETTO:+0200
DTSTART:20250330T010000
TZNAME:CEST
END:DAYLIGHT
END:VTIMEZONE
END:VCALENDAR
