BEGIN:VCALENDAR
VERSION:2.0
PRODID:-//Events | FID-Recht//NONSGML Events//EN
CALSCALE:GREGORIAN
X-ORIGINAL-URL:https://events.intrecht.de/termine/
X-WR-CALDESC:Events | FID-Recht - Events
BEGIN:VEVENT
UID:20200603T1418Z-1591193923.3362-EO-587-1@172.16.200.141
STATUS:CONFIRMED
DTSTAMP:20260425T145641Z
CREATED:20230221T121140Z
LAST-MODIFIED:20230221T121221Z
DTSTART;VALUE=DATE:20230524
DTEND;VALUE=DATE:20230526
SUMMARY: Tagung zur Halbzeitbilanz der Umsetzung der Agenda 2030
DESCRIPTION: 24.-25.5.2023 / Berlin https://dgvn.de/aktivitaeten/einzelansi
 cht/tagung-zur-halbzeitbilanz-der-umsetzung-der-agenda-2030
X-ALT-DESC;FMTTYPE=text/html: <p>24.-25.5.2023 / Berlin</p><p><a href="http
 s://dgvn.de/aktivitaeten/einzelansicht/tagung-zur-halbzeitbilanz-der-umsetz
 ung-der-agenda-2030">https://dgvn.de/aktivitaeten/einzelansicht/tagung-zur-
 halbzeitbilanz-der-umsetzung-der-agenda-2030</a></p><p>[av_button label='iC
 al-Export' link='./feed/eo-events' link_target='' size='small' position='ce
 nter' label_display='' title_attr='' icon_select='yes' icon='ue85b' font='e
 ntypo-fontello' color='custom' custom_bg='#b5123e' custom_font='#ffffff' av
 _uid='' id='' custom_class='' admin_preview_bg='']</p>
CATEGORIES:Recht interdisziplinär
LOCATION:Inland
GEO:0.000000;0.000000
ORGANIZER;CN="ViFa-Recht":MAILTO:vifa-recht@sbb.spk-berlin.de
URL;VALUE=URI:https://events.intrecht.de/termine/termin/tagung-zur-halbzeit
 bilanz-der-umsetzung-der-agenda-2030/
END:VEVENT
BEGIN:VTIMEZONE
TZID:Europe/Berlin
BEGIN:DAYLIGHT
TZOFFSETFROM:+0100
TZOFFSETTO:+0200
DTSTART:20230326T010000
TZNAME:CEST
END:DAYLIGHT
END:VTIMEZONE
END:VCALENDAR
