BEGIN:VCALENDAR
VERSION:2.0
PRODID:-//Events | FID-Recht//NONSGML Events//EN
CALSCALE:GREGORIAN
X-ORIGINAL-URL:https://events.intrecht.de/termine/
X-WR-CALDESC:Events | FID-Recht - Events
BEGIN:VEVENT
UID:20221128T2153Z-1669672416.1337-EO-7596-1@172.16.200.151
STATUS:CONFIRMED
DTSTAMP:20260421T102528Z
CREATED:20221124T143353Z
LAST-MODIFIED:20221124T143353Z
DTSTART;VALUE=DATE:20230616
DTEND;VALUE=DATE:20230618
SUMMARY: Tagung Junges Nachhaltigkeitsrecht 2023
DESCRIPTION: 16.-17.6.2023 / Halle (Frist für Einreichungen: 1.2.2023) http
 s://institut.wirtschaftsrecht.uni-halle.de/jnr2023/  
X-ALT-DESC;FMTTYPE=text/html: <p>16.-17.6.2023 / Halle <strong>(Frist für E
 inreichungen: 1.2.2023)</strong></p><p><a href="https://institut.wirtschaft
 srecht.uni-halle.de/jnr2023/">https://institut.wirtschaftsrecht.uni-halle.d
 e/jnr2023/</a></p><p> </p><p>[av_button label='iCal-Export' link='./feed/eo
 -events' link_target='' size='small' position='center' label_display='' tit
 le_attr='' icon_select='yes' icon='ue85b' font='entypo-fontello' color='cus
 tom' custom_bg='#b5123e' custom_font='#ffffff' av_uid='' id='' custom_class
 ='' admin_preview_bg='']</p>
CATEGORIES:Recht interdisziplinär
LOCATION:Inland
GEO:0.000000;0.000000
ORGANIZER;CN="ViFa-Recht":MAILTO:vifa-recht@sbb.spk-berlin.de
URL;VALUE=URI:https://events.intrecht.de/termine/termin/tagung-junges-nachh
 altigkeitsrecht-2023/
END:VEVENT
BEGIN:VTIMEZONE
TZID:Europe/Berlin
BEGIN:DAYLIGHT
TZOFFSETFROM:+0100
TZOFFSETTO:+0200
DTSTART:20230326T010000
TZNAME:CEST
END:DAYLIGHT
END:VTIMEZONE
END:VCALENDAR
