BEGIN:VCALENDAR
VERSION:2.0
PRODID:-//Events | FID-Recht//NONSGML Events//EN
CALSCALE:GREGORIAN
X-ORIGINAL-URL:https://events.intrecht.de/termine/
X-WR-CALDESC:Events | FID-Recht - Events
BEGIN:VEVENT
UID:20210124T0419Z-1611461958.7824-EO-3147-1@172.16.200.141
STATUS:CONFIRMED
DTSTAMP:20260422T111917Z
CREATED:20210122T191214Z
LAST-MODIFIED:20210122T191406Z
DTSTART;VALUE=DATE:20210415
DTEND;VALUE=DATE:20210416
SUMMARY: International Military Justice Forum (Tagung) (CfP)
DESCRIPTION: 18.-19.11.2021\, Paris (Frist für Einreichungen: 15.4.2021) ht
 tp://esclh.blogspot.com/2021/01/call-for-papers-international-military.html
     
X-ALT-DESC;FMTTYPE=text/html: <p>18.-19.11.2021\, Paris (Frist für Einreich
 ungen: 15.4.2021)</p><p><a href="http://esclh.blogspot.com/2021/01/call-for
 -papers-international-military.html">http://esclh.blogspot.com/2021/01/call
 -for-papers-international-military.html</a></p><p> </p><p> </p><p>[av_butto
 n label='iCal-Export' link='./feed/eo-events' link_target='' size='small' p
 osition='center' label_display='' title_attr='' icon_select='yes' icon='ue8
 5b' font='entypo-fontello' color='custom' custom_bg='#b5123e' custom_font='
 #ffffff' av_uid='' id='' custom_class='' admin_preview_bg='']</p>
CATEGORIES:Europäisches / Internationales Recht
LOCATION:Ausland
GEO:0.000000;0.000000
ORGANIZER;CN="ViFa-Recht":MAILTO:vifa-recht@sbb.spk-berlin.de
URL;VALUE=URI:https://events.intrecht.de/termine/termin/tagung-internationa
 l-military-justice-forum/
END:VEVENT
BEGIN:VTIMEZONE
TZID:Europe/Berlin
BEGIN:DAYLIGHT
TZOFFSETFROM:+0100
TZOFFSETTO:+0200
DTSTART:20210328T010000
TZNAME:CEST
END:DAYLIGHT
END:VTIMEZONE
END:VCALENDAR
