BEGIN:VCALENDAR
VERSION:2.0
PRODID:-//Events | FID-Recht//NONSGML Events//EN
CALSCALE:GREGORIAN
X-ORIGINAL-URL:https://events.intrecht.de/termine/
X-WR-CALDESC:Events | FID-Recht - Events
BEGIN:VEVENT
UID:20200603T1418Z-1591193923.3362-EO-587-1@172.16.200.141
STATUS:CONFIRMED
DTSTAMP:20260422T211516Z
CREATED:20241212T171825Z
LAST-MODIFIED:20241212T171825Z
DTSTART;VALUE=DATE:20250925
DTEND;VALUE=DATE:20250927
SUMMARY: Tagung für Praktische Philosophie
DESCRIPTION: 25.-26.9.2025 / Passau (Einreichungsfrist: 15.4.2025) https://
 www.tagung-praktische-philosophie.org/call-for-papers.html
X-ALT-DESC;FMTTYPE=text/html: <p>25.-26.9.2025 / Passau <strong>(Einreichun
 gsfrist: 15.4.2025)</strong></p><p><a href="https://www.tagung-praktische-p
 hilosophie.org/call-for-papers.html">https://www.tagung-praktische-philosop
 hie.org/call-for-papers.html</a></p><p>[av_button label='iCal-Export' link=
 './feed/eo-events' link_target='' size='small' position='center' label_disp
 lay='' title_attr='' icon_select='yes' icon='ue85b' font='entypo-fontello' 
 color='custom' custom_bg='#b5123e' custom_font='#ffffff' av_uid='' id='' cu
 stom_class='' admin_preview_bg='']</p>
CATEGORIES:Recht interdisziplinär
LOCATION:Inland
GEO:0.000000;0.000000
ORGANIZER;CN="ViFa-Recht":MAILTO:vifa-recht@sbb.spk-berlin.de
URL;VALUE=URI:https://events.intrecht.de/termine/termin/tagung-fuer-praktis
 che-philosophie-2/
END:VEVENT
BEGIN:VTIMEZONE
TZID:Europe/Berlin
BEGIN:DAYLIGHT
TZOFFSETFROM:+0100
TZOFFSETTO:+0200
DTSTART:20250330T010000
TZNAME:CEST
END:DAYLIGHT
END:VTIMEZONE
END:VCALENDAR
