BEGIN:VCALENDAR
VERSION:2.0
PRODID:-//Events | FID-Recht//NONSGML Events//EN
CALSCALE:GREGORIAN
X-ORIGINAL-URL:https://events.intrecht.de/termine/
X-WR-CALDESC:Events | FID-Recht - Events
BEGIN:VEVENT
UID:20200603T1418Z-1591193923.3362-EO-587-1@172.16.200.141
STATUS:CONFIRMED
DTSTAMP:20260425T132302Z
CREATED:20240712T115918Z
LAST-MODIFIED:20240712T115918Z
DTSTART;VALUE=DATE:20240919
DTEND;VALUE=DATE:20240921
SUMMARY: Tagung Europäisches Strafrecht: Fokus e-Evidence
DESCRIPTION: 19.-20.9.2024 / Luzern https://www.unilu.ch/agenda/tagung-euro
 paeisches-strafrecht-neueste-entwicklungen-effizienz-im-rechtsstaat-fokus-e
 -evidence-8616/
X-ALT-DESC;FMTTYPE=text/html: <p>19.-20.9.2024 / Luzern</p><p><a href="http
 s://www.unilu.ch/agenda/tagung-europaeisches-strafrecht-neueste-entwicklung
 en-effizienz-im-rechtsstaat-fokus-e-evidence-8616/">https://www.unilu.ch/ag
 enda/tagung-europaeisches-strafrecht-neueste-entwicklungen-effizienz-im-rec
 htsstaat-fokus-e-evidence-8616/</a></p><p>[av_button label='iCal-Export' li
 nk='./feed/eo-events' link_target='' size='small' position='center' label_d
 isplay='' title_attr='' icon_select='yes' icon='ue85b' font='entypo-fontell
 o' color='custom' custom_bg='#b5123e' custom_font='#ffffff' av_uid='' id=''
  custom_class='' admin_preview_bg='']</p>
CATEGORIES:Strafrecht
LOCATION:Ausland
GEO:0.000000;0.000000
ORGANIZER;CN="ViFa-Recht":MAILTO:vifa-recht@sbb.spk-berlin.de
URL;VALUE=URI:https://events.intrecht.de/termine/termin/tagung-europaeische
 s-strafrecht-fokus-e-evidence/
END:VEVENT
BEGIN:VTIMEZONE
TZID:Europe/Berlin
BEGIN:DAYLIGHT
TZOFFSETFROM:+0100
TZOFFSETTO:+0200
DTSTART:20240331T010000
TZNAME:CEST
END:DAYLIGHT
END:VTIMEZONE
END:VCALENDAR
