BEGIN:VCALENDAR
VERSION:2.0
PRODID:-//Events | FID-Recht//NONSGML Events//EN
CALSCALE:GREGORIAN
X-ORIGINAL-URL:https://events.intrecht.de/termine/
X-WR-CALDESC:Events | FID-Recht - Events
BEGIN:VEVENT
UID:20200602T0945Z-1591091115.9737-EO-599-1@172.16.200.141
STATUS:CONFIRMED
DTSTAMP:20260426T003700Z
CREATED:20260310T090613Z
LAST-MODIFIED:20260310T090613Z
DTSTART;VALUE=DATE:20260924
DTEND;VALUE=DATE:20260925
SUMMARY: Tagung des Netzwerks Sicherheitsrecht
DESCRIPTION: 24.9.2026 / Bochum (Einreichungsfrist: 4.5.2026) https://www.j
 uwiss.de/wp-content/uploads/2026/03/cfa-sicherheitsrecht-2026.pdf
X-ALT-DESC;FMTTYPE=text/html: <p>24.9.2026 / Bochum <strong>(Einreichungsfr
 ist: 4.5.2026)</strong></p><p><a href="https://www.juwiss.de/wp-content/upl
 oads/2026/03/cfa-sicherheitsrecht-2026.pdf">https://www.juwiss.de/wp-conten
 t/uploads/2026/03/cfa-sicherheitsrecht-2026.pdf</a></p><p>[av_button label=
 'iCal-Export' link='./feed/eo-events' link_target='' size='small' position=
 'center' label_display='' title_attr='' icon_select='yes' icon='ue85b' font
 ='entypo-fontello' color='custom' custom_bg='#b5123e' custom_font='#ffffff'
  av_uid='' id='' custom_class='' admin_preview_bg='']</p>
CATEGORIES:Recht interdisziplinär
LOCATION:Inland
GEO:0.000000;0.000000
ORGANIZER;CN="ViFa-Recht":MAILTO:vifa-recht@sbb.spk-berlin.de
URL;VALUE=URI:https://events.intrecht.de/termine/termin/tagung-des-netzwerk
 s-sicherheitsrecht/
END:VEVENT
BEGIN:VTIMEZONE
TZID:Europe/Berlin
BEGIN:DAYLIGHT
TZOFFSETFROM:+0100
TZOFFSETTO:+0200
DTSTART:20260329T010000
TZNAME:CEST
END:DAYLIGHT
END:VTIMEZONE
END:VCALENDAR
