BEGIN:VCALENDAR
VERSION:2.0
PRODID:-//Events | FID-Recht//NONSGML Events//EN
CALSCALE:GREGORIAN
X-ORIGINAL-URL:https://events.intrecht.de/termine/
X-WR-CALDESC:Events | FID-Recht - Events
BEGIN:VEVENT
UID:20200603T1418Z-1591193923.3362-EO-587-1@172.16.200.141
STATUS:CONFIRMED
DTSTAMP:20260423T020221Z
CREATED:20250507T101015Z
LAST-MODIFIED:20250507T101015Z
DTSTART;VALUE=DATE:20250828
DTEND;VALUE=DATE:20250830
SUMMARY: Systemic Integration of Climate Change in International Law (Clima
 te Change Conference)
DESCRIPTION: 28.-29.8.2025 / Singapur (Einreichungsfrist: 9.5.2025) https:/
 /cil.nus.edu.sg/event/systemic-integration-of-climate-change-in-internation
 al-law/
X-ALT-DESC;FMTTYPE=text/html: <p>28.-29.8.2025 / Singapur <strong>(Einreich
 ungsfrist: 9.5.2025)</strong></p><p><a href="https://cil.nus.edu.sg/event/s
 ystemic-integration-of-climate-change-in-international-law/">https://cil.nu
 s.edu.sg/event/systemic-integration-of-climate-change-in-international-law/
 </a></p><p>[av_button label='iCal-Export' link='./feed/eo-events' link_targ
 et='' size='small' position='center' label_display='' title_attr='' icon_se
 lect='yes' icon='ue85b' font='entypo-fontello' color='custom' custom_bg='#b
 5123e' custom_font='#ffffff' av_uid='' id='' custom_class='' admin_preview_
 bg='']</p>
CATEGORIES:Europäisches / Internationales Recht
LOCATION:Ausland
GEO:0.000000;0.000000
ORGANIZER;CN="ViFa-Recht":MAILTO:vifa-recht@sbb.spk-berlin.de
URL;VALUE=URI:https://events.intrecht.de/termine/termin/systemic-integratio
 n-of-climate-change-in-international-law-climate-change-conference/
END:VEVENT
BEGIN:VTIMEZONE
TZID:Europe/Berlin
BEGIN:DAYLIGHT
TZOFFSETFROM:+0100
TZOFFSETTO:+0200
DTSTART:20250330T010000
TZNAME:CEST
END:DAYLIGHT
END:VTIMEZONE
END:VCALENDAR
