BEGIN:VCALENDAR
VERSION:2.0
PRODID:-//Events | FID-Recht//NONSGML Events//EN
CALSCALE:GREGORIAN
X-ORIGINAL-URL:https://events.intrecht.de/termine/
X-WR-CALDESC:Events | FID-Recht - Events
BEGIN:VEVENT
UID:20200603T1418Z-1591193923.3362-EO-587-1@172.16.200.141
STATUS:CONFIRMED
DTSTAMP:20260426T005302Z
CREATED:20230912T121107Z
LAST-MODIFIED:20230912T121107Z
DTSTART;VALUE=DATE:20240312
DTEND;VALUE=DATE:20240313
SUMMARY: Systemic discrimination and the law. Conceptualization and legal r
 emedies (Conference)
DESCRIPTION: 12.3.2024 / Barcelona (Einreichungsfrist: 31.10.2023) https://
 verfassungsblog.de/wp-content/uploads/2023/09/Call-for-papers-V4.pdf
X-ALT-DESC;FMTTYPE=text/html: <p>12.3.2024 / Barcelona<strong> (Einreichung
 sfrist: 31.10.2023)</strong></p><p><a href="https://verfassungsblog.de/wp-c
 ontent/uploads/2023/09/Call-for-papers-V4.pdf">https://verfassungsblog.de/w
 p-content/uploads/2023/09/Call-for-papers-V4.pdf</a></p><p>[av_button label
 ='iCal-Export' link='./feed/eo-events' link_target='' size='small' position
 ='center' label_display='' title_attr='' icon_select='yes' icon='ue85b' fon
 t='entypo-fontello' color='custom' custom_bg='#b5123e' custom_font='#ffffff
 ' av_uid='' id='' custom_class='' admin_preview_bg='']</p>
CATEGORIES:Recht interdisziplinär
LOCATION:Ausland
GEO:0.000000;0.000000
ORGANIZER;CN="ViFa-Recht":MAILTO:vifa-recht@sbb.spk-berlin.de
URL;VALUE=URI:https://events.intrecht.de/termine/termin/systemic-discrimina
 tion-and-the-law-conceptualization-and-legal-remedies-conference/
END:VEVENT
BEGIN:VTIMEZONE
TZID:Europe/Berlin
BEGIN:STANDARD
TZOFFSETFROM:+0200
TZOFFSETTO:+0100
DTSTART:20231029T010000
TZNAME:CET
END:STANDARD
END:VTIMEZONE
END:VCALENDAR
