BEGIN:VCALENDAR
VERSION:2.0
PRODID:-//Events | FID-Recht//NONSGML Events//EN
CALSCALE:GREGORIAN
X-ORIGINAL-URL:https://events.intrecht.de/termine/
X-WR-CALDESC:Events | FID-Recht - Events
BEGIN:VEVENT
UID:20200603T1418Z-1591193923.3362-EO-587-1@172.16.200.141
STATUS:CONFIRMED
DTSTAMP:20260422T160603Z
CREATED:20240305T132618Z
LAST-MODIFIED:20240305T132732Z
DTSTART;VALUE=DATE:20241030
DTEND;VALUE=DATE:20241031
SUMMARY: Systematic Implications of Norm Individuation (Vortrag / Freiburge
 r Vorträge zur Staatswissenschaft und Rechtsphilosophie)
DESCRIPTION: 30.10.2024 / Freiburg https://csl.mpg.de/events/36496/3123
X-ALT-DESC;FMTTYPE=text/html: <p>30.10.2024 / Freiburg</p><p><a href="https
 ://csl.mpg.de/events/36496/3123">https://csl.mpg.de/events/36496/3123</a></
 p><p>[av_button label='iCal-Export' link='./feed/eo-events' link_target='' 
 size='small' position='center' label_display='' title_attr='' icon_select='
 yes' icon='ue85b' font='entypo-fontello' color='custom' custom_bg='#b5123e'
  custom_font='#ffffff' av_uid='' id='' custom_class='' admin_preview_bg='']
 </p>
CATEGORIES:Recht interdisziplinär
LOCATION:Inland
GEO:0.000000;0.000000
ORGANIZER;CN="ViFa-Recht":MAILTO:vifa-recht@sbb.spk-berlin.de
URL;VALUE=URI:https://events.intrecht.de/termine/termin/systematic-implicat
 ions-of-norm-individuation-freiburger-vortraege-zur-staatswissenschaft-und-
 rechtsphilosophie/
END:VEVENT
BEGIN:VTIMEZONE
TZID:Europe/Berlin
BEGIN:STANDARD
TZOFFSETFROM:+0200
TZOFFSETTO:+0100
DTSTART:20241027T010000
TZNAME:CET
END:STANDARD
END:VTIMEZONE
END:VCALENDAR
