BEGIN:VCALENDAR
VERSION:2.0
PRODID:-//Events | FID-Recht//NONSGML Events//EN
CALSCALE:GREGORIAN
X-ORIGINAL-URL:https://events.intrecht.de/termine/
X-WR-CALDESC:Events | FID-Recht - Events
BEGIN:VEVENT
UID:20201118T0930Z-1605691847.6835-EO-1790-1@172.16.200.141
STATUS:CONFIRMED
DTSTAMP:20260420T111612Z
CREATED:20201020T130521Z
LAST-MODIFIED:20201030T164538Z
DTSTART;VALUE=DATE:20201123
DTEND;VALUE=DATE:20201124
SUMMARY: ABGESAGT: Symposium des Forums für Internationales Sportrecht (Onl
 ine-Konferenz)
DESCRIPTION: 23.11.2020\, Hamburg/Online   https://www.mpipriv.de/1249233/2
 020-11-23-symposium-des-forums-fur-internationales-sportrecht  
X-ALT-DESC;FMTTYPE=text/html: <p>23.11.2020\, Hamburg/Online</p><p> </p><p>
 <a href="https://www.mpipriv.de/1249233/2020-11-23-symposium-des-forums-fur
 -internationales-sportrecht">https://www.mpipriv.de/1249233/2020-11-23-symp
 osium-des-forums-fur-internationales-sportrecht</a></p><p> </p><p>[av_butto
 n label='iCal-Export' link='./feed/eo-events' link_target='' size='small' p
 osition='center' label_display='' title_attr='' icon_select='yes' icon='ue8
 5b' font='entypo-fontello' color='custom' custom_bg='#b5123e' custom_font='
 #ffffff' av_uid='' id='' custom_class='' admin_preview_bg='']</p>
CATEGORIES:Zivilrecht
LOCATION:Online
GEO:0.000000;0.000000
ORGANIZER;CN="ViFa-Recht":MAILTO:vifa-recht@sbb.spk-berlin.de
URL;VALUE=URI:https://events.intrecht.de/termine/termin/symposium-des-forum
 s-fuer-internationales-sportrecht-online-konferenz/
END:VEVENT
BEGIN:VTIMEZONE
TZID:Europe/Berlin
BEGIN:STANDARD
TZOFFSETFROM:+0200
TZOFFSETTO:+0100
DTSTART:20201025T010000
TZNAME:CET
END:STANDARD
END:VTIMEZONE
END:VCALENDAR
