BEGIN:VCALENDAR
VERSION:2.0
PRODID:-//Events | FID-Recht//NONSGML Events//EN
CALSCALE:GREGORIAN
X-ORIGINAL-URL:https://events.intrecht.de/termine/
X-WR-CALDESC:Events | FID-Recht - Events
BEGIN:VEVENT
UID:20221217T0802Z-1671264155.1911-EO-7817-1@172.16.200.151
STATUS:CONFIRMED
DTSTAMP:20260421T115356Z
CREATED:20221213T122956Z
LAST-MODIFIED:20221213T122956Z
DTSTART;VALUE=DATE:20230111
DTEND;VALUE=DATE:20230112
SUMMARY: Sustainability\, Competition Law and Greenwashing (Discussion)
DESCRIPTION: 11.1.2023 / London Sustainability\, Competition Law and Greenw
 ashing (biicl.org)  
X-ALT-DESC;FMTTYPE=text/html: <p>11.1.2023 / London</p><p><a href="https://
 www.biicl.org/events/11685/sustainability-competition-law-and-greenwashing"
 >Sustainability\, Competition Law and Greenwashing (biicl.org)</a></p><p> <
 /p><p>[av_button label='iCal-Export' link='./feed/eo-events' link_target=''
  size='small' position='center' label_display='' title_attr='' icon_select=
 'yes' icon='ue85b' font='entypo-fontello' color='custom' custom_bg='#b5123e
 ' custom_font='#ffffff' av_uid='' id='' custom_class='' admin_preview_bg=''
 ]</p>
CATEGORIES:Recht interdisziplinär
LOCATION:Ausland
GEO:0.000000;0.000000
ORGANIZER;CN="ViFa-Recht":MAILTO:vifa-recht@sbb.spk-berlin.de
URL;VALUE=URI:https://events.intrecht.de/termine/termin/sustainability-comp
 etition-law-and-greenwashing-discussion/
END:VEVENT
BEGIN:VTIMEZONE
TZID:Europe/Berlin
BEGIN:STANDARD
TZOFFSETFROM:+0200
TZOFFSETTO:+0100
DTSTART:20221030T010000
TZNAME:CET
END:STANDARD
END:VTIMEZONE
END:VCALENDAR
