BEGIN:VCALENDAR
VERSION:2.0
PRODID:-//Events | FID-Recht//NONSGML Events//EN
CALSCALE:GREGORIAN
X-ORIGINAL-URL:https://events.intrecht.de/termine/
X-WR-CALDESC:Events | FID-Recht - Events
BEGIN:VEVENT
UID:20200603T1418Z-1591193923.3362-EO-587-1@172.16.200.141
STATUS:CONFIRMED
DTSTAMP:20260426T012424Z
CREATED:20230227T122846Z
LAST-MODIFIED:20230227T122846Z
DTSTART;VALUE=DATE:20230626
DTEND;VALUE=DATE:20230707
SUMMARY: Summer School on Labour Migration in the European Union
DESCRIPTION: 26.6.-6.7.2023 / Neapel (Anmeldefrist: 15.4.2023) http://www.e
 ulab.unina.it/summer-school-2023/
X-ALT-DESC;FMTTYPE=text/html: <p>26.6.-6.7.2023 / Neapel <strong>(Anmeldefr
 ist: 15.4.2023)</strong></p><p><a href="http://www.eulab.unina.it/summer-sc
 hool-2023/">http://www.eulab.unina.it/summer-school-2023/</a></p><p>[av_but
 ton label='iCal-Export' link='./feed/eo-events' link_target='' size='small'
  position='center' label_display='' title_attr='' icon_select='yes' icon='u
 e85b' font='entypo-fontello' color='custom' custom_bg='#b5123e' custom_font
 ='#ffffff' av_uid='' id='' custom_class='' admin_preview_bg='']</p>
CATEGORIES:Europäisches / Internationales Recht
LOCATION:Ausland
GEO:0.000000;0.000000
ORGANIZER;CN="ViFa-Recht":MAILTO:vifa-recht@sbb.spk-berlin.de
URL;VALUE=URI:https://events.intrecht.de/termine/termin/summer-school-on-la
 bour-migration-in-the-european-union/
END:VEVENT
BEGIN:VTIMEZONE
TZID:Europe/Berlin
BEGIN:DAYLIGHT
TZOFFSETFROM:+0100
TZOFFSETTO:+0200
DTSTART:20230326T010000
TZNAME:CEST
END:DAYLIGHT
END:VTIMEZONE
END:VCALENDAR
