BEGIN:VCALENDAR
VERSION:2.0
PRODID:-//Events | FID-Recht//NONSGML Events//EN
CALSCALE:GREGORIAN
X-ORIGINAL-URL:https://events.intrecht.de/termine/
X-WR-CALDESC:Events | FID-Recht - Events
BEGIN:VEVENT
UID:20220415T2325Z-1650065104.3757-EO-6655-1@172.16.200.141
STATUS:CONFIRMED
DTSTAMP:20260421T102647Z
CREATED:20220405T115551Z
LAST-MODIFIED:20220405T115621Z
DTSTART;VALUE=DATE:20220414
DTEND;VALUE=DATE:20220415
SUMMARY: Labour Migration in the European Union (EULab Summer School) (Bewe
 rbungsfrist)
DESCRIPTION: 27.6.-7.7.2022\, Neapel (Bewerbungsfrist: 14.4.2022) Home – EU
 LAB (unina.it)  
X-ALT-DESC;FMTTYPE=text/html: <p>27.6.-7.7.2022\, Neapel (Bewerbungsfrist: 
 14.4.2022)</p><p><a href="http://www.eulab.unina.it/">Home - EULAB (unina.i
 t)</a></p><p> </p><p>[av_button label='iCal-Export' link='./feed/eo-events'
  link_target='' size='small' position='center' label_display='' title_attr=
 '' icon_select='yes' icon='ue85b' font='entypo-fontello' color='custom' cus
 tom_bg='#b5123e' custom_font='#ffffff' av_uid='' id='' custom_class='' admi
 n_preview_bg='']</p>
CATEGORIES:Europäisches / Internationales Recht
LOCATION:Ausland
GEO:0.000000;0.000000
ORGANIZER;CN="ViFa-Recht":MAILTO:vifa-recht@sbb.spk-berlin.de
URL;VALUE=URI:https://events.intrecht.de/termine/termin/summer-school-on-la
 bour-migration-in-the-european-union-eulab-summer-school-bewerbungsfrist/
END:VEVENT
BEGIN:VTIMEZONE
TZID:Europe/Berlin
BEGIN:DAYLIGHT
TZOFFSETFROM:+0100
TZOFFSETTO:+0200
DTSTART:20220327T010000
TZNAME:CEST
END:DAYLIGHT
END:VTIMEZONE
END:VCALENDAR
