BEGIN:VCALENDAR
VERSION:2.0
PRODID:-//Events | FID-Recht//NONSGML Events//EN
CALSCALE:GREGORIAN
X-ORIGINAL-URL:https://events.intrecht.de/termine/
X-WR-CALDESC:Events | FID-Recht - Events
BEGIN:VEVENT
UID:20200602T0945Z-1591091115.9737-EO-599-1@172.16.200.141
STATUS:CONFIRMED
DTSTAMP:20260425T133017Z
CREATED:20260421T091150Z
LAST-MODIFIED:20260421T092017Z
DTSTART;VALUE=DATE:20261004
DTEND;VALUE=DATE:20261010
SUMMARY: Summer School on Corporate Accountability & Climate Justice
DESCRIPTION: 4.-9.10.2026 / Nürnberg (Anmeldefrist: 3.5.2026) https://www.h
 umanrights.fau.de/2026/03/23/call-for-applications-summer-school-on-corpora
 te-accountability-climate-justice/
X-ALT-DESC;FMTTYPE=text/html: <p>4.-9.10.2026 / Nürnberg <strong>(Anmeldefr
 ist: 3.5.2026)</strong></p><p><a href="https://www.humanrights.fau.de/2026/
 03/23/call-for-applications-summer-school-on-corporate-accountability-clima
 te-justice/">https://www.humanrights.fau.de/2026/03/23/call-for-application
 s-summer-school-on-corporate-accountability-climate-justice/</a></p><p>[av_
 button label='iCal-Export' link='./feed/eo-events' link_target='' size='sma
 ll' position='center' label_display='' title_attr='' icon_select='yes' icon
 ='ue85b' font='entypo-fontello' color='custom' custom_bg='#b5123e' custom_f
 ont='#ffffff' av_uid='' id='' custom_class='' admin_preview_bg='']</p>
CATEGORIES:Recht interdisziplinär
LOCATION:Inland
GEO:0.000000;0.000000
ORGANIZER;CN="ViFa-Recht":MAILTO:vifa-recht@sbb.spk-berlin.de
URL;VALUE=URI:https://events.intrecht.de/termine/termin/summer-school-on-co
 rporate-accountability-climate-justice/
END:VEVENT
BEGIN:VTIMEZONE
TZID:Europe/Berlin
BEGIN:DAYLIGHT
TZOFFSETFROM:+0100
TZOFFSETTO:+0200
DTSTART:20260329T010000
TZNAME:CEST
END:DAYLIGHT
END:VTIMEZONE
END:VCALENDAR
