BEGIN:VCALENDAR
VERSION:2.0
PRODID:-//Events | FID-Recht//NONSGML Events//EN
CALSCALE:GREGORIAN
X-ORIGINAL-URL:https://events.intrecht.de/termine/
X-WR-CALDESC:Events | FID-Recht - Events
BEGIN:VEVENT
UID:20230511T0924Z-1683797080.2596-EO-12693-1@172.16.200.151
STATUS:CONFIRMED
DTSTAMP:20260425T162711Z
CREATED:20230208T160018Z
LAST-MODIFIED:20230208T160018Z
DTSTART;VALUE=DATE:20230627
DTEND;VALUE=DATE:20230630
SUMMARY: Summer Academy Law and Political Economy in Europe
DESCRIPTION: 27.-29.6.2023 / Rotterdam (Frist für Einreichungen: 6.3.2023) 
 https://www.eur.nl/en/esl/news/summer-academy-law-and-political-economy-eur
 ope-erasmus-university-rotterdam-27-29th-june-2023  
X-ALT-DESC;FMTTYPE=text/html: <p>27.-29.6.2023 / Rotterdam <strong>(Frist f
 ür Einreichungen: 6.3.2023)</strong></p><p><a href="https://www.eur.nl/en/e
 sl/news/summer-academy-law-and-political-economy-europe-erasmus-university-
 rotterdam-27-29th-june-2023">https://www.eur.nl/en/esl/news/summer-academy-
 law-and-political-economy-europe-erasmus-university-rotterdam-27-29th-june-
 2023</a></p><p> </p><p>[av_button label='iCal-Export' link='./feed/eo-event
 s' link_target='' size='small' position='center' label_display='' title_att
 r='' icon_select='yes' icon='ue85b' font='entypo-fontello' color='custom' c
 ustom_bg='#b5123e' custom_font='#ffffff' av_uid='' id='' custom_class='' ad
 min_preview_bg='']</p>
CATEGORIES:Recht interdisziplinär
LOCATION:Ausland
GEO:0.000000;0.000000
ORGANIZER;CN="ViFa-Recht":MAILTO:vifa-recht@sbb.spk-berlin.de
URL;VALUE=URI:https://events.intrecht.de/termine/termin/summer-academy-law-
 and-political-economy-in-europe/
END:VEVENT
BEGIN:VTIMEZONE
TZID:Europe/Berlin
BEGIN:DAYLIGHT
TZOFFSETFROM:+0100
TZOFFSETTO:+0200
DTSTART:20230326T010000
TZNAME:CEST
END:DAYLIGHT
END:VTIMEZONE
END:VCALENDAR
