BEGIN:VCALENDAR
VERSION:2.0
PRODID:-//Events | FID-Recht//NONSGML Events//EN
CALSCALE:GREGORIAN
X-ORIGINAL-URL:https://events.intrecht.de/termine/
X-WR-CALDESC:Events | FID-Recht - Events
BEGIN:VEVENT
UID:20220730T2332Z-1659223925.5205-EO-4804-1@172.16.200.151
STATUS:CONFIRMED
DTSTAMP:20260426T041605Z
CREATED:20220729T161302Z
LAST-MODIFIED:20220729T161302Z
DTSTART;VALUE=DATE:20230330
DTEND;VALUE=DATE:20230401
SUMMARY: Succession in Islamic Law (Tagung)
DESCRIPTION: 30.-31.3.2023\, Hamburg (Frist für Einreichungen: 15.9.2022) C
 all for Papers: Succession in Islamic Law | Max Planck Institute for Compar
 ative and International Private Law (mpipriv.de)  
X-ALT-DESC;FMTTYPE=text/html: <p>30.-31.3.2023\, Hamburg (Frist für Einreic
 hungen: 15.9.2022)</p><p><a href="https://www.mpipriv.de/1543907/20220729-c
 all-for-papers-succession-in-islamic-law">Call for Papers: Succession in Is
 lamic Law | Max Planck Institute for Comparative and International Private 
 Law (mpipriv.de)</a></p><p> </p><p>[av_button label='iCal-Export' link='./f
 eed/eo-events' link_target='' size='small' position='center' label_display=
 '' title_attr='' icon_select='yes' icon='ue85b' font='entypo-fontello' colo
 r='custom' custom_bg='#b5123e' custom_font='#ffffff' av_uid='' id='' custom
 _class='' admin_preview_bg='']</p>
CATEGORIES:Zivilrecht
LOCATION:Inland
GEO:0.000000;0.000000
ORGANIZER;CN="ViFa-Recht":MAILTO:vifa-recht@sbb.spk-berlin.de
URL;VALUE=URI:https://events.intrecht.de/termine/termin/succession-in-islam
 ic-law-tagung/
END:VEVENT
BEGIN:VTIMEZONE
TZID:Europe/Berlin
BEGIN:DAYLIGHT
TZOFFSETFROM:+0100
TZOFFSETTO:+0200
DTSTART:20230326T010000
TZNAME:CEST
END:DAYLIGHT
END:VTIMEZONE
END:VCALENDAR
