BEGIN:VCALENDAR
VERSION:2.0
PRODID:-//Events | FID-Recht//NONSGML Events//EN
CALSCALE:GREGORIAN
X-ORIGINAL-URL:https://events.intrecht.de/termine/
X-WR-CALDESC:Events | FID-Recht - Events
BEGIN:VEVENT
UID:20210220T1655Z-1613840132.0915-EO-3364-1@172.16.200.141
STATUS:CONFIRMED
DTSTAMP:20260425T151146Z
CREATED:20210129T180658Z
LAST-MODIFIED:20210129T180658Z
DTSTART;VALUE=DATE:20210127
DTEND;VALUE=DATE:20210127
SUMMARY: Studies in the Contract Laws of Asia Volume III – Contents of Cont
 racts and Unfair Terms (mit Mindy Chen-Wishart\, Stefan Vogenauer u.a.) (On
 line-Buchpräsentation)
DESCRIPTION: 27.1.2021\, Online https://law.nus.edu.sg/ewbclb/wp-content/up
 loads/sites/6/2021/01/Publicity-Flyer.pdf https://law.nus.edu.sg/ewbclb/eve
 nts/book-launch-studies-in-the-contract-laws-of-asia-volume-iii-contents-of
 -contracts-and-unfair-terms-edited-by-mindy-chen-wishart-and-stefan-vogenau
 er/  
X-ALT-DESC;FMTTYPE=text/html: <p>27.1.2021\, Online</p><p><a href="https://
 law.nus.edu.sg/ewbclb/wp-content/uploads/sites/6/2021/01/Publicity-Flyer.pd
 f">https://law.nus.edu.sg/ewbclb/wp-content/uploads/sites/6/2021/01/Publici
 ty-Flyer.pdf</a></p><p><a href="https://law.nus.edu.sg/ewbclb/events/book-l
 aunch-studies-in-the-contract-laws-of-asia-volume-iii-contents-of-contracts
 -and-unfair-terms-edited-by-mindy-chen-wishart-and-stefan-vogenauer/">https
 ://law.nus.edu.sg/ewbclb/events/book-launch-studies-in-the-contract-laws-of
 -asia-volume-iii-contents-of-contracts-and-unfair-terms-edited-by-mindy-che
 n-wishart-and-stefan-vogenauer/</a></p><p> </p><p>[av_button label='iCal-Ex
 port' link='./feed/eo-events' link_target='' size='small' position='center'
  label_display='' title_attr='' icon_select='yes' icon='ue85b' font='entypo
 -fontello' color='custom' custom_bg='#b5123e' custom_font='#ffffff' av_uid=
 '' id='' custom_class='' admin_preview_bg='']</p>
CATEGORIES:Recht interdisziplinär,Zivilrecht
ORGANIZER;CN="ViFa-Recht":MAILTO:vifa-recht@sbb.spk-berlin.de
URL;VALUE=URI:https://events.intrecht.de/termine/termin/studies-in-the-cont
 ract-laws-of-asia-volume-iii-contents-of-contracts-and-unfair-terms-mit-min
 dy-chen-wishart-stefan-vogenauer-u-a-online-buchpraesentation/
END:VEVENT
BEGIN:VTIMEZONE
TZID:Europe/Berlin
BEGIN:STANDARD
TZOFFSETFROM:+0200
TZOFFSETTO:+0100
DTSTART:20201025T010000
TZNAME:CET
END:STANDARD
END:VTIMEZONE
END:VCALENDAR
