BEGIN:VCALENDAR
VERSION:2.0
PRODID:-//Events | FID-Recht//NONSGML Events//EN
CALSCALE:GREGORIAN
X-ORIGINAL-URL:https://events.intrecht.de/termine/
X-WR-CALDESC:Events | FID-Recht - Events
BEGIN:VEVENT
UID:20210314T1734Z-1615743284.9682-EO-2534-1@172.16.200.141
STATUS:CONFIRMED
DTSTAMP:20260423T023301Z
CREATED:20210311T174057Z
LAST-MODIFIED:20210311T174226Z
DTSTART;VALUE=DATE:20210305
DTEND;VALUE=DATE:20210306
SUMMARY: Studies in the Contract Laws of Asia\, vol III: Contents of Contra
 cts and Unfair Terms (mit Mindy Chen-Wishart\, Ewan McKendrick\, Stefan Vog
 enauer) (Online-Buchpräsentation)
DESCRIPTION: 5.3.2021\, Online Book Launch: Studies in the Contract Laws of
  Asia\; Volume III: Contents of Contracts and Unfair Terms | Oxford Law Fac
 ulty  
X-ALT-DESC;FMTTYPE=text/html: <p>5.3.2021\, Online</p><p style="font-weight
 : 400\;"><a href="https://www.law.ox.ac.uk/events/book-launch-studies-contr
 act-laws-asia-volume-iii-contents-contracts-and-unfair-terms">Book Launch: 
 Studies in the Contract Laws of Asia\; Volume III: Contents of Contracts an
 d Unfair Terms | Oxford Law Faculty</a></p><p> </p><p>[av_button label='iCa
 l-Export' link='./feed/eo-events' link_target='' size='small' position='cen
 ter' label_display='' title_attr='' icon_select='yes' icon='ue85b' font='en
 typo-fontello' color='custom' custom_bg='#b5123e' custom_font='#ffffff' av_
 uid='' id='' custom_class='' admin_preview_bg='']</p>
CATEGORIES:Zivilrecht
LOCATION:Online
GEO:0.000000;0.000000
ORGANIZER;CN="ViFa-Recht":MAILTO:vifa-recht@sbb.spk-berlin.de
URL;VALUE=URI:https://events.intrecht.de/termine/termin/studies-in-the-cont
 ract-laws-of-asia-vol-iii-contents-of-contracts-and-unfair-terms-mit-mindy-
 chen-wishart-ewan-mckendrick-stefan-vogenauer-online-buchpraesentation/
END:VEVENT
BEGIN:VTIMEZONE
TZID:Europe/Berlin
BEGIN:STANDARD
TZOFFSETFROM:+0200
TZOFFSETTO:+0100
DTSTART:20201025T010000
TZNAME:CET
END:STANDARD
END:VTIMEZONE
END:VCALENDAR
