BEGIN:VCALENDAR
VERSION:2.0
PRODID:-//Events | FID-Recht//NONSGML Events//EN
CALSCALE:GREGORIAN
X-ORIGINAL-URL:https://events.intrecht.de/termine/
X-WR-CALDESC:Events | FID-Recht - Events
BEGIN:VEVENT
UID:20220422T0316Z-1650597412.2985-EO-6758-1@172.16.200.141
STATUS:CONFIRMED
DTSTAMP:20260419T150520Z
CREATED:20220420T064045Z
LAST-MODIFIED:20220420T064045Z
DTSTART;VALUE=DATE:20220720
DTEND;VALUE=DATE:20220723
SUMMARY: Struggling for rights of nature – Social movements\, subjective ri
 ghts and the emancipatory potential of law (Workshop)
DESCRIPTION: 20.-22.07.2022\, Bremen  (Frist für Einreichungen: 1.5.2022) N
 ature as a legal entity – Universität Bremen (uni-bremen.de)  
X-ALT-DESC;FMTTYPE=text/html: <p>20.-22.07.2022\, Bremen  (Frist für Einrei
 chungen: 1.5.2022)</p><p><a href="https://www.uni-bremen.de/jura/fachbereic
 h-6-rechtswissenschaft/fachbereich/personen/prof-dr-andreas-fischer-lescano
 -llm-eui-florenz/nature-as-a-legal-entity">Nature as a legal entity - Unive
 rsität Bremen (uni-bremen.de)</a></p><p> </p><p>[av_button label='iCal-Expo
 rt' link='./feed/eo-events' link_target='' size='small' position='center' l
 abel_display='' title_attr='' icon_select='yes' icon='ue85b' font='entypo-f
 ontello' color='custom' custom_bg='#b5123e' custom_font='#ffffff' av_uid=''
  id='' custom_class='' admin_preview_bg='']</p>
CATEGORIES:Recht interdisziplinär
LOCATION:Inland
GEO:0.000000;0.000000
ORGANIZER;CN="ViFa-Recht":MAILTO:vifa-recht@sbb.spk-berlin.de
URL;VALUE=URI:https://events.intrecht.de/termine/termin/struggling-for-righ
 ts-of-nature-social-movements-subjective-rights-and-the-emancipatory-potent
 ial-of-law-workshop/
END:VEVENT
BEGIN:VTIMEZONE
TZID:Europe/Berlin
BEGIN:DAYLIGHT
TZOFFSETFROM:+0100
TZOFFSETTO:+0200
DTSTART:20220327T010000
TZNAME:CEST
END:DAYLIGHT
END:VTIMEZONE
END:VCALENDAR
