BEGIN:VCALENDAR
VERSION:2.0
PRODID:-//Events | FID-Recht//NONSGML Events//EN
CALSCALE:GREGORIAN
X-ORIGINAL-URL:https://events.intrecht.de/termine/
X-WR-CALDESC:Events | FID-Recht - Events
BEGIN:VEVENT
UID:20200603T1418Z-1591193923.3362-EO-587-1@172.16.200.141
STATUS:CONFIRMED
DTSTAMP:20260425T201944Z
CREATED:20250707T142430Z
LAST-MODIFIED:20250707T142430Z
DTSTART;VALUE=DATE:20251010
DTEND;VALUE=DATE:20251013
SUMMARY: Strengthening International Criminal Law: 80 Years since Nuremberg
  (Nuremberg Forum 2025)
DESCRIPTION: 10.-12.10.2025 / Nürnberg https://www.nurembergacademy.org/abo
 ut-us/news-dates/detail/1170-nuremberg-forum-2025
X-ALT-DESC;FMTTYPE=text/html: <p>10.-12.10.2025 / Nürnberg</p><p><a href="h
 ttps://www.nurembergacademy.org/about-us/news-dates/detail/1170-nuremberg-f
 orum-2025">https://www.nurembergacademy.org/about-us/news-dates/detail/1170
 -nuremberg-forum-2025</a></p><p>[av_button label='iCal-Export' link='./feed
 /eo-events' link_target='' size='small' position='center' label_display='' 
 title_attr='' icon_select='yes' icon='ue85b' font='entypo-fontello' color='
 custom' custom_bg='#b5123e' custom_font='#ffffff' av_uid='' id='' custom_cl
 ass='' admin_preview_bg='']</p>
CATEGORIES:Europäisches / Internationales Recht
LOCATION:Inland
GEO:0.000000;0.000000
ORGANIZER;CN="ViFa-Recht":MAILTO:vifa-recht@sbb.spk-berlin.de
URL;VALUE=URI:https://events.intrecht.de/termine/termin/strengthening-inter
 national-criminal-law-80-years-since-nuremberg-nuremberg-forum-2025/
END:VEVENT
BEGIN:VTIMEZONE
TZID:Europe/Berlin
BEGIN:DAYLIGHT
TZOFFSETFROM:+0100
TZOFFSETTO:+0200
DTSTART:20250330T010000
TZNAME:CEST
END:DAYLIGHT
END:VTIMEZONE
END:VCALENDAR
