BEGIN:VCALENDAR
VERSION:2.0
PRODID:-//Events | FID-Recht//NONSGML Events//EN
CALSCALE:GREGORIAN
X-ORIGINAL-URL:https://events.intrecht.de/termine/
X-WR-CALDESC:Events | FID-Recht - Events
BEGIN:VEVENT
UID:20200603T1418Z-1591193923.3362-EO-587-1@172.16.200.141
STATUS:CONFIRMED
DTSTAMP:20260422T193842Z
CREATED:20231219T154907Z
LAST-MODIFIED:20231219T155045Z
DTSTART;VALUE=DATE:20240215
DTEND;VALUE=DATE:20240218
SUMMARY: Streitbeilegungsmechanismen und Kompetenz-Kompetenz im Mehrebenens
 ystem (Workshop für Nachwuchswissenschaftler*innen)
DESCRIPTION: 15.-17.2.2024 / Berlin (Einreichungsfrist: 19.1.2024) https://
 www.jura.fu-berlin.de/fachbereich/einrichtungen/zivilrecht/lehrende/rentsch
 b/informationen/CfA—Streitbeilegungsmechansismen-im-Mehrebenensystem_-_002_
 .pdf
X-ALT-DESC;FMTTYPE=text/html: <p>15.-17.2.2024 / Berlin <strong>(Einreichun
 gsfrist: 19.1.2024)</strong></p><p><a href="https://www.jura.fu-berlin.de/f
 achbereich/einrichtungen/zivilrecht/lehrende/rentschb/informationen/CfA---S
 treitbeilegungsmechansismen-im-Mehrebenensystem_-_002_.pdf">https://www.jur
 a.fu-berlin.de/fachbereich/einrichtungen/zivilrecht/lehrende/rentschb/infor
 mationen/CfA---Streitbeilegungsmechansismen-im-Mehrebenensystem_-_002_.pdf<
 /a></p><p>[av_button label='iCal-Export' link='./feed/eo-events' link_targe
 t='' size='small' position='center' label_display='' title_attr='' icon_sel
 ect='yes' icon='ue85b' font='entypo-fontello' color='custom' custom_bg='#b5
 123e' custom_font='#ffffff' av_uid='' id='' custom_class='' admin_preview_b
 g='']</p>
CATEGORIES:Recht interdisziplinär
LOCATION:Inland
GEO:0.000000;0.000000
ORGANIZER;CN="ViFa-Recht":MAILTO:vifa-recht@sbb.spk-berlin.de
URL;VALUE=URI:https://events.intrecht.de/termine/termin/streitbeilegungsmec
 hanismen-und-kompetenz-kompetenz-im-mehrebenensystem-workshop-fuer-nachwuch
 swissenschaftlerinnen/
END:VEVENT
BEGIN:VTIMEZONE
TZID:Europe/Berlin
BEGIN:STANDARD
TZOFFSETFROM:+0200
TZOFFSETTO:+0100
DTSTART:20231029T010000
TZNAME:CET
END:STANDARD
END:VTIMEZONE
END:VCALENDAR
