BEGIN:VCALENDAR
VERSION:2.0
PRODID:-//Events | FID-Recht//NONSGML Events//EN
CALSCALE:GREGORIAN
X-ORIGINAL-URL:https://events.intrecht.de/termine/
X-WR-CALDESC:Events | FID-Recht - Events
BEGIN:VEVENT
UID:20201217T0356Z-1608177361.7779-EO-2651-1@172.16.200.141
STATUS:CONFIRMED
DTSTAMP:20260426T041234Z
CREATED:20201201T182714Z
LAST-MODIFIED:20201201T182714Z
DTSTART;VALUE=DATE:20201208
DTEND;VALUE=DATE:20201208
SUMMARY: Strategische Prozessführung bei Umwelt- und Menschenrechten (BAKJ-
 Kongress 2020\, mit Remo Klinger) (Online-Vortrag)
DESCRIPTION: 8.12.2020\, Online https://klimaundrecht.bakj.de/  
X-ALT-DESC;FMTTYPE=text/html: <p>8.12.2020\, Online</p><p><a href="https://
 klimaundrecht.bakj.de/">https://klimaundrecht.bakj.de/</a></p><p> </p><p>[a
 v_button label='iCal-Export' link='./feed/eo-events' link_target='' size='s
 mall' position='center' label_display='' title_attr='' icon_select='yes' ic
 on='ue85b' font='entypo-fontello' color='custom' custom_bg='#b5123e' custom
 _font='#ffffff' av_uid='' id='' custom_class='' admin_preview_bg='']</p>
CATEGORIES:Öffentliches Recht
LOCATION:Online
GEO:0.000000;0.000000
ORGANIZER;CN="ViFa-Recht":MAILTO:vifa-recht@sbb.spk-berlin.de
URL;VALUE=URI:https://events.intrecht.de/termine/termin/strategische-prozes
 sfuehrung-bei-umwelt-und-menschenrechten-bakj-kongress-2020-mit-remo-klinge
 r-online-vortrag/
END:VEVENT
BEGIN:VTIMEZONE
TZID:Europe/Berlin
BEGIN:STANDARD
TZOFFSETFROM:+0200
TZOFFSETTO:+0100
DTSTART:20201025T010000
TZNAME:CET
END:STANDARD
END:VTIMEZONE
END:VCALENDAR
